BEGIN:VCALENDAR
VERSION:2.0
PRODID:-//WSPTA - ECPv6.15.17//NONSGML v1.0//EN
CALSCALE:GREGORIAN
METHOD:PUBLISH
X-WR-CALNAME:WSPTA
X-ORIGINAL-URL:https://www.wastatepta.org
X-WR-CALDESC:Events for WSPTA
REFRESH-INTERVAL;VALUE=DURATION:PT1H
X-Robots-Tag:noindex
X-PUBLISHED-TTL:PT1H
BEGIN:VTIMEZONE
TZID:America/Los_Angeles
BEGIN:DAYLIGHT
TZOFFSETFROM:-0800
TZOFFSETTO:-0700
TZNAME:PDT
DTSTART:20180311T100000
END:DAYLIGHT
BEGIN:STANDARD
TZOFFSETFROM:-0700
TZOFFSETTO:-0800
TZNAME:PST
DTSTART:20181104T090000
END:STANDARD
BEGIN:DAYLIGHT
TZOFFSETFROM:-0800
TZOFFSETTO:-0700
TZNAME:PDT
DTSTART:20190310T100000
END:DAYLIGHT
BEGIN:STANDARD
TZOFFSETFROM:-0700
TZOFFSETTO:-0800
TZNAME:PST
DTSTART:20191103T090000
END:STANDARD
BEGIN:DAYLIGHT
TZOFFSETFROM:-0800
TZOFFSETTO:-0700
TZNAME:PDT
DTSTART:20200308T100000
END:DAYLIGHT
BEGIN:STANDARD
TZOFFSETFROM:-0700
TZOFFSETTO:-0800
TZNAME:PST
DTSTART:20201101T090000
END:STANDARD
END:VTIMEZONE
BEGIN:VEVENT
DTSTART;TZID=America/Los_Angeles:20191017T170000
DTEND;TZID=America/Los_Angeles:20191017T210000
DTSTAMP:20260417T025047
CREATED:20190927T001150Z
LAST-MODIFIED:20190927T191251Z
UID:11049-1571331600-1571346000@www.wastatepta.org
SUMMARY:Region 8 Fall Conference
DESCRIPTION:Sehome High School \nhttps://www.eventbrite.com/e/region-8-fall-conference-tickets-73876690169 \nFREE training and leadership development for all PTA leaders! Come learn\, network with your fellow PTA leaders\, and meet part of your PTA support team. \nAll Washington State PTA trainings and events are for PTA officers\, board members\, committee chairs\, and interested members only.
URL:https://www.wastatepta.org/event/region-8-fall-conference-2/
LOCATION:Sehome High School\, 2700 Bill McDonald Parkway\, Bellingham\, Washington\, 98225
CATEGORIES:Leadership Development/Training Opportunity
END:VEVENT
END:VCALENDAR