BEGIN:VCALENDAR
VERSION:2.0
PRODID:-//WSPTA - ECPv6.15.17//NONSGML v1.0//EN
CALSCALE:GREGORIAN
METHOD:PUBLISH
X-ORIGINAL-URL:https://www.wastatepta.org
X-WR-CALDESC:Events for WSPTA
REFRESH-INTERVAL;VALUE=DURATION:PT1H
X-Robots-Tag:noindex
X-PUBLISHED-TTL:PT1H
BEGIN:VTIMEZONE
TZID:America/Los_Angeles
BEGIN:DAYLIGHT
TZOFFSETFROM:-0800
TZOFFSETTO:-0700
TZNAME:PDT
DTSTART:20190310T100000
END:DAYLIGHT
BEGIN:STANDARD
TZOFFSETFROM:-0700
TZOFFSETTO:-0800
TZNAME:PST
DTSTART:20191103T090000
END:STANDARD
BEGIN:DAYLIGHT
TZOFFSETFROM:-0800
TZOFFSETTO:-0700
TZNAME:PDT
DTSTART:20200308T100000
END:DAYLIGHT
BEGIN:STANDARD
TZOFFSETFROM:-0700
TZOFFSETTO:-0800
TZNAME:PST
DTSTART:20201101T090000
END:STANDARD
BEGIN:DAYLIGHT
TZOFFSETFROM:-0800
TZOFFSETTO:-0700
TZNAME:PDT
DTSTART:20210314T100000
END:DAYLIGHT
BEGIN:STANDARD
TZOFFSETFROM:-0700
TZOFFSETTO:-0800
TZNAME:PST
DTSTART:20211107T090000
END:STANDARD
BEGIN:DAYLIGHT
TZOFFSETFROM:-0800
TZOFFSETTO:-0700
TZNAME:PDT
DTSTART:20220313T100000
END:DAYLIGHT
BEGIN:STANDARD
TZOFFSETFROM:-0700
TZOFFSETTO:-0800
TZNAME:PST
DTSTART:20221106T090000
END:STANDARD
BEGIN:DAYLIGHT
TZOFFSETFROM:-0800
TZOFFSETTO:-0700
TZNAME:PDT
DTSTART:20230312T100000
END:DAYLIGHT
BEGIN:STANDARD
TZOFFSETFROM:-0700
TZOFFSETTO:-0800
TZNAME:PST
DTSTART:20231105T090000
END:STANDARD
END:VTIMEZONE
BEGIN:VEVENT
DTSTART;TZID=America/Los_Angeles:20221001T093000
DTEND;TZID=America/Los_Angeles:20221001T123000
DTSTAMP:20260425T084245
CREATED:20220907T232721Z
LAST-MODIFIED:20220907T232813Z
UID:17895-1664616600-1664627400@www.wastatepta.org
SUMMARY:PTA and the Law - In-person - hosted by Lake Washington PTSA Council
DESCRIPTION:Register here: https://www.eventbrite.com/e/pta-and-the-law-in-person-hosted-by-lake-washington-council-tickets-413060072797 \nPTA and the Law is a required class for at least one PTA Officer each year. This is the most important and useful class of them all\, as it will prepare you and your fellow officers to run your PTA with an eye toward the important legal and fiscal requirements in running a nonprofit. PTA and the Law deals with state and federal rules and regulations relevant to running a charitable\, tax-exempt\, nonprofit corporation in the State of Washington and will explain how these rules impact your PTA.
URL:https://www.wastatepta.org/event/pta-and-the-law-in-person-hosted-by-lake-washington-ptsa-council/
LOCATION:LWSD Resource Center\, 16250 Northeast 74th Street\, Redmond\, WA\, 98052\, United States
CATEGORIES:Leadership Development/Training Opportunity,WSPTA Event
END:VEVENT
BEGIN:VEVENT
DTSTART;TZID=America/Los_Angeles:20200225T090000
DTEND;TZID=America/Los_Angeles:20200225T140000
DTSTAMP:20260425T084245
CREATED:20200123T022545Z
LAST-MODIFIED:20200123T022545Z
UID:11680-1582621200-1582639200@www.wastatepta.org
SUMMARY:Region 2 Winter Conference
DESCRIPTION:Lake Washington School District Resource Center\, Redmond \nhttps://www.eventbrite.com/e/region-2-winter-conference-tickets-90382499489 \nFREE training and leadership development for all PTA leaders! Come learn\, network with your fellow PTA leaders\, and meet part of your PTA support team. \nAll Washington State PTA trainings and events are for PTA officers\, board members\, committee chairs\, and interested members only.
URL:https://www.wastatepta.org/event/region-2-winter-conference/
LOCATION:LWSD Resource Center\, 16250 Northeast 74th Street\, Redmond\, WA\, 98052\, United States
CATEGORIES:Leadership Development/Training Opportunity
END:VEVENT
END:VCALENDAR