BEGIN:VCALENDAR
VERSION:2.0
PRODID:-//WSPTA - ECPv6.15.17//NONSGML v1.0//EN
CALSCALE:GREGORIAN
METHOD:PUBLISH
X-ORIGINAL-URL:https://www.wastatepta.org
X-WR-CALDESC:Events for WSPTA
REFRESH-INTERVAL;VALUE=DURATION:PT1H
X-Robots-Tag:noindex
X-PUBLISHED-TTL:PT1H
BEGIN:VTIMEZONE
TZID:America/Los_Angeles
BEGIN:DAYLIGHT
TZOFFSETFROM:-0800
TZOFFSETTO:-0700
TZNAME:PDT
DTSTART:20230312T100000
END:DAYLIGHT
BEGIN:STANDARD
TZOFFSETFROM:-0700
TZOFFSETTO:-0800
TZNAME:PST
DTSTART:20231105T090000
END:STANDARD
BEGIN:DAYLIGHT
TZOFFSETFROM:-0800
TZOFFSETTO:-0700
TZNAME:PDT
DTSTART:20240310T100000
END:DAYLIGHT
BEGIN:STANDARD
TZOFFSETFROM:-0700
TZOFFSETTO:-0800
TZNAME:PST
DTSTART:20241103T090000
END:STANDARD
BEGIN:DAYLIGHT
TZOFFSETFROM:-0800
TZOFFSETTO:-0700
TZNAME:PDT
DTSTART:20250309T100000
END:DAYLIGHT
BEGIN:STANDARD
TZOFFSETFROM:-0700
TZOFFSETTO:-0800
TZNAME:PST
DTSTART:20251102T090000
END:STANDARD
END:VTIMEZONE
BEGIN:VEVENT
DTSTART;TZID=America/Los_Angeles:20241008T100000
DTEND;TZID=America/Los_Angeles:20241008T130000
DTSTAMP:20260419T130119
CREATED:20240910T000244Z
LAST-MODIFIED:20240910T000244Z
UID:22951-1728381600-1728392400@www.wastatepta.org
SUMMARY:PTA and the Law
DESCRIPTION:This is the most important and useful class of them all\, as it will prepare you and your fellow officers to run your PTA with an eye toward the important legal and fiscal requirements in running a nonprofit. PTA and the Law deals with state and federal rules and regulations relevant to running a charitable\, tax-exempt\, nonprofit corporation in the state of Washington and will explain how these rules impact your PTA. PTA and the Law is a required class for at least one PTA officer each year. \nRegister below.
URL:https://www.wastatepta.org/event/pta-and-the-law-9/
CATEGORIES:Leadership Development/Training Opportunity
END:VEVENT
BEGIN:VEVENT
DTSTART;TZID=America/Los_Angeles:20241019T090000
DTEND;TZID=America/Los_Angeles:20241019T120000
DTSTAMP:20260419T130119
CREATED:20240910T000541Z
LAST-MODIFIED:20240926T172856Z
UID:22953-1729328400-1729339200@www.wastatepta.org
SUMMARY:PTA and the Law
DESCRIPTION:This is the most important and useful class of them all\, as it will prepare you and your fellow officers to run your PTA with an eye toward the important legal and fiscal requirements in running a nonprofit. PTA and the Law deals with state and federal rules and regulations relevant to running a charitable\, tax-exempt\, nonprofit corporation in the state of Washington and will explain how these rules impact your PTA. PTA and the Law is a required class for at least one PTA officer each year. \nRegister below. \n(this class was originally scheduled on 10/12 but moved due to a conflict)
URL:https://www.wastatepta.org/event/22953/
CATEGORIES:Leadership Development/Training Opportunity
END:VEVENT
END:VCALENDAR