BEGIN:VCALENDAR
VERSION:2.0
PRODID:-//WSPTA - ECPv6.15.17//NONSGML v1.0//EN
CALSCALE:GREGORIAN
METHOD:PUBLISH
X-ORIGINAL-URL:https://www.wastatepta.org
X-WR-CALDESC:Events for WSPTA
REFRESH-INTERVAL;VALUE=DURATION:PT1H
X-Robots-Tag:noindex
X-PUBLISHED-TTL:PT1H
BEGIN:VTIMEZONE
TZID:America/Los_Angeles
BEGIN:DAYLIGHT
TZOFFSETFROM:-0800
TZOFFSETTO:-0700
TZNAME:PDT
DTSTART:20250309T100000
END:DAYLIGHT
BEGIN:STANDARD
TZOFFSETFROM:-0700
TZOFFSETTO:-0800
TZNAME:PST
DTSTART:20251102T090000
END:STANDARD
BEGIN:DAYLIGHT
TZOFFSETFROM:-0800
TZOFFSETTO:-0700
TZNAME:PDT
DTSTART:20260308T100000
END:DAYLIGHT
BEGIN:STANDARD
TZOFFSETFROM:-0700
TZOFFSETTO:-0800
TZNAME:PST
DTSTART:20261101T090000
END:STANDARD
BEGIN:DAYLIGHT
TZOFFSETFROM:-0800
TZOFFSETTO:-0700
TZNAME:PDT
DTSTART:20270314T100000
END:DAYLIGHT
BEGIN:STANDARD
TZOFFSETFROM:-0700
TZOFFSETTO:-0800
TZNAME:PST
DTSTART:20271107T090000
END:STANDARD
END:VTIMEZONE
BEGIN:VEVENT
DTSTART;TZID=America/Los_Angeles:20260108T190000
DTEND;TZID=America/Los_Angeles:20260108T200000
DTSTAMP:20260424T163425
CREATED:20251009T200008Z
LAST-MODIFIED:20251114T190049Z
UID:25080-1767898800-1767902400@www.wastatepta.org
SUMMARY:What to Expect during the 2026 State Legislative Session
DESCRIPTION:The Washington State legislative session is right around the corner. Join WSPTA’s legislative consultant Marie Sullivan as she gives a preview of what to expect. \nDate has changed to January 8th as of November 2025.  \nRegister below.
URL:https://www.wastatepta.org/event/what-to-expect-during-the-2026-state-legislative-session/
CATEGORIES:WSPTA Event
END:VEVENT
END:VCALENDAR