BEGIN:VCALENDAR
VERSION:2.0
PRODID:-//WSPTA - ECPv6.15.17//NONSGML v1.0//EN
CALSCALE:GREGORIAN
METHOD:PUBLISH
X-WR-CALNAME:WSPTA
X-ORIGINAL-URL:https://www.wastatepta.org
X-WR-CALDESC:Events for WSPTA
REFRESH-INTERVAL;VALUE=DURATION:PT1H
X-Robots-Tag:noindex
X-PUBLISHED-TTL:PT1H
BEGIN:VTIMEZONE
TZID:America/Los_Angeles
BEGIN:DAYLIGHT
TZOFFSETFROM:-0800
TZOFFSETTO:-0700
TZNAME:PDT
DTSTART:20220313T100000
END:DAYLIGHT
BEGIN:STANDARD
TZOFFSETFROM:-0700
TZOFFSETTO:-0800
TZNAME:PST
DTSTART:20221106T090000
END:STANDARD
BEGIN:DAYLIGHT
TZOFFSETFROM:-0800
TZOFFSETTO:-0700
TZNAME:PDT
DTSTART:20230312T100000
END:DAYLIGHT
BEGIN:STANDARD
TZOFFSETFROM:-0700
TZOFFSETTO:-0800
TZNAME:PST
DTSTART:20231105T090000
END:STANDARD
BEGIN:DAYLIGHT
TZOFFSETFROM:-0800
TZOFFSETTO:-0700
TZNAME:PDT
DTSTART:20240310T100000
END:DAYLIGHT
BEGIN:STANDARD
TZOFFSETFROM:-0700
TZOFFSETTO:-0800
TZNAME:PST
DTSTART:20241103T090000
END:STANDARD
END:VTIMEZONE
BEGIN:VEVENT
DTSTART;VALUE=DATE:20230301
DTEND;VALUE=DATE:20230302
DTSTAMP:20260424T145033
CREATED:20220831T045934Z
LAST-MODIFIED:20230210T004319Z
UID:17795-1677628800-1677715199@www.wastatepta.org
SUMMARY:WSPTA State-level Awards Submissions Due
DESCRIPTION:
URL:https://www.wastatepta.org/event/wspta-state-level-awards-submissions-due-2/
CATEGORIES:Deadline Dates
END:VEVENT
BEGIN:VEVENT
DTSTART;TZID=America/Los_Angeles:20230301T180000
DTEND;TZID=America/Los_Angeles:20230301T210000
DTSTAMP:20260424T145033
CREATED:20230201T222326Z
LAST-MODIFIED:20230201T222326Z
UID:18847-1677693600-1677704400@www.wastatepta.org
SUMMARY:PTA & the Law
DESCRIPTION:This is the most important and useful class of them all\, as it will prepare you and your fellow officers to run your PTA with an eye toward the important legal and fiscal requirements in running a nonprofit. PTA and the Law deals with state and federal rules and regulations relevant to running a charitable\, tax-exempt\, nonprofit corporation in the state of Washington and will explain how these rules impact your PTA. PTA and the Law is a required class for at least one PTA officer each year.
URL:https://www.wastatepta.org/event/pta-the-law-4/
LOCATION:Virtual
END:VEVENT
BEGIN:VEVENT
DTSTART;TZID=America/Los_Angeles:20230302T173000
DTEND;TZID=America/Los_Angeles:20230302T203000
DTSTAMP:20260424T145033
CREATED:20230209T190049Z
LAST-MODIFIED:20230209T190049Z
UID:18915-1677778200-1677789000@www.wastatepta.org
SUMMARY:PTA & The Law - In Person!
DESCRIPTION:Join us in-person for PTA and the Law! \nThis in-person class is hosted by Region 7 but open to all WSPTA members. Pizza will be served. \nThis is the most important and useful class of them all\, as it will prepare you and your fellow officers to run your PTA with an eye toward the important legal and fiscal requirements in running a nonprofit. PTA and the Law deals with state and federal rules and regulations relevant to running a charitable\, tax-exempt\, nonprofit corporation in the state of Washington and will explain how these rules impact your PTA. PTA and the Law is a required class for at least one PTA officer each year.
URL:https://www.wastatepta.org/event/pta-the-law-in-person/
LOCATION:Marysville School District Service Center\, 4220 80th Street Northeast\, Marysville\, 98270
CATEGORIES:WSPTA Event
END:VEVENT
BEGIN:VEVENT
DTSTART;TZID=America/Los_Angeles:20230307T080000
DTEND;TZID=America/Los_Angeles:20230308T170000
DTSTAMP:20260424T145034
CREATED:20220914T033853Z
LAST-MODIFIED:20220914T033853Z
UID:17965-1678176000-1678294800@www.wastatepta.org
SUMMARY:National PTA LegCon
DESCRIPTION:Details available soon. \nhttps://www.pta.org/home/events/National-PTA-Legislative-Conference
URL:https://www.wastatepta.org/event/national-pta-legcon/
LOCATION:Virtual
CATEGORIES:National PTA
END:VEVENT
BEGIN:VEVENT
DTSTART;VALUE=DATE:20230315
DTEND;VALUE=DATE:20230316
DTSTAMP:20260424T145034
CREATED:20220831T050003Z
LAST-MODIFIED:20230124T213848Z
UID:17797-1678838400-1678924799@www.wastatepta.org
SUMMARY:Leadership Service Award Applications Due
DESCRIPTION:
URL:https://www.wastatepta.org/event/leadership-service-award-applications-due-2/
CATEGORIES:Deadline Dates
END:VEVENT
BEGIN:VEVENT
DTSTART;VALUE=DATE:20230315
DTEND;VALUE=DATE:20230316
DTSTAMP:20260424T145034
CREATED:20220831T050036Z
LAST-MODIFIED:20230124T213958Z
UID:17799-1678838400-1678924799@www.wastatepta.org
SUMMARY:Local PTA and Council Awards of Excellence Submissions Due
DESCRIPTION:
URL:https://www.wastatepta.org/event/local-pta-and-council-awards-of-excellence-submissions-due-2/
CATEGORIES:Deadline Dates
END:VEVENT
BEGIN:VEVENT
DTSTART;VALUE=DATE:20230315
DTEND;VALUE=DATE:20230316
DTSTAMP:20260424T145034
CREATED:20220831T050121Z
LAST-MODIFIED:20230124T213839Z
UID:17801-1678838400-1678924799@www.wastatepta.org
SUMMARY:Membership Award Applications Due
DESCRIPTION:100% Membership and 100% Staff Membership Awards
URL:https://www.wastatepta.org/event/membership-award-applications-due-3/
CATEGORIES:Deadline Dates
END:VEVENT
BEGIN:VEVENT
DTSTART;TZID=America/Los_Angeles:20230315T120000
DTEND;TZID=America/Los_Angeles:20230315T133000
DTSTAMP:20260424T145034
CREATED:20230209T190059Z
LAST-MODIFIED:20230209T195619Z
UID:18919-1678881600-1678887000@www.wastatepta.org
SUMMARY:Tackling Transitions
DESCRIPTION:Poor transitions come with enormous cost to PTAs. Losses may include hundreds of volunteer hours\, critical program information\, and much more. Tackle your transitions to keep your PTA running at its very best!
URL:https://www.wastatepta.org/event/tackling-transitions/
LOCATION:Virtual
CATEGORIES:Leadership Development/Training Opportunity
END:VEVENT
BEGIN:VEVENT
DTSTART;TZID=America/Los_Angeles:20230321T190000
DTEND;TZID=America/Los_Angeles:20230321T203000
DTSTAMP:20260424T145034
CREATED:20230303T213153Z
LAST-MODIFIED:20230303T213154Z
UID:19204-1679425200-1679430600@www.wastatepta.org
SUMMARY:Washington State PTA Special Education Committee Roundtable
DESCRIPTION:The Special Education Committee would like to invite leaders of Washington State Special Education PTAs\, Special Education Representatives both at the council and school levels and community special education parent’s groups to a roundtable to network and share ideas from across the state.
URL:https://www.wastatepta.org/event/washington-state-pta-special-education-committee-roundtable-2/
LOCATION:Virtual
END:VEVENT
END:VCALENDAR