BEGIN:VCALENDAR
VERSION:2.0
PRODID:-//WSPTA - ECPv6.15.17//NONSGML v1.0//EN
CALSCALE:GREGORIAN
METHOD:PUBLISH
X-WR-CALNAME:WSPTA
X-ORIGINAL-URL:https://www.wastatepta.org
X-WR-CALDESC:Events for WSPTA
REFRESH-INTERVAL;VALUE=DURATION:PT1H
X-Robots-Tag:noindex
X-PUBLISHED-TTL:PT1H
BEGIN:VTIMEZONE
TZID:America/Los_Angeles
BEGIN:DAYLIGHT
TZOFFSETFROM:-0800
TZOFFSETTO:-0700
TZNAME:PDT
DTSTART:20250309T100000
END:DAYLIGHT
BEGIN:STANDARD
TZOFFSETFROM:-0700
TZOFFSETTO:-0800
TZNAME:PST
DTSTART:20251102T090000
END:STANDARD
BEGIN:DAYLIGHT
TZOFFSETFROM:-0800
TZOFFSETTO:-0700
TZNAME:PDT
DTSTART:20260308T100000
END:DAYLIGHT
BEGIN:STANDARD
TZOFFSETFROM:-0700
TZOFFSETTO:-0800
TZNAME:PST
DTSTART:20261101T090000
END:STANDARD
BEGIN:DAYLIGHT
TZOFFSETFROM:-0800
TZOFFSETTO:-0700
TZNAME:PDT
DTSTART:20270314T100000
END:DAYLIGHT
BEGIN:STANDARD
TZOFFSETFROM:-0700
TZOFFSETTO:-0800
TZNAME:PST
DTSTART:20271107T090000
END:STANDARD
BEGIN:DAYLIGHT
TZOFFSETFROM:-0800
TZOFFSETTO:-0700
TZNAME:PDT
DTSTART:20280312T100000
END:DAYLIGHT
BEGIN:STANDARD
TZOFFSETFROM:-0700
TZOFFSETTO:-0800
TZNAME:PST
DTSTART:20281105T090000
END:STANDARD
END:VTIMEZONE
BEGIN:VEVENT
DTSTART;VALUE=DATE:20260711
DTEND;VALUE=DATE:20260713
DTSTAMP:20260424T010756
CREATED:20260421T173622Z
LAST-MODIFIED:20260421T173622Z
UID:26029-1783728000-1783900799@www.wastatepta.org
SUMMARY:Region Director Retreat
DESCRIPTION:
URL:https://www.wastatepta.org/event/region-director-retreat-2/
LOCATION:WSPTA Office\, Tacoma\, WA\, 949 Market Street Suite 550\, Tacoma\, WA\, 98402\, United States
END:VEVENT
BEGIN:VEVENT
DTSTART;TZID=America/Los_Angeles:20260711T080000
DTEND;TZID=America/Los_Angeles:20260711T120000
DTSTAMP:20260424T010756
CREATED:20260421T173510Z
LAST-MODIFIED:20260421T173510Z
UID:26027-1783756800-1783771200@www.wastatepta.org
SUMMARY:Board Meeting
DESCRIPTION:
URL:https://www.wastatepta.org/event/board-meeting-2/
LOCATION:WSPTA Office\, Tacoma\, WA\, 949 Market Street Suite 550\, Tacoma\, WA\, 98402\, United States
CATEGORIES:WSPTA Meeting
END:VEVENT
BEGIN:VEVENT
DTSTART;VALUE=DATE:20260731
DTEND;VALUE=DATE:20260801
DTSTAMP:20260424T010756
CREATED:20210513T231135Z
LAST-MODIFIED:20250924T164637Z
UID:24571-1785456000-1785542399@www.wastatepta.org
SUMMARY:Annual Corporation Renewal
DESCRIPTION:If your PTA incorporated this month\, the annual corporation renewal is due; regardless of the income your PTA earns. This is separate from the Charitable Organization registration/renewal. When you are about to file\, click File Online for Nonprofits. \nYou can check the status of your renewal on the Secretary of State’s website. Enter your UBI number and you will be provided with details of your PTA’s corporation registration.
URL:https://www.wastatepta.org/event/annual-corporation-renewal-21/2026-07-31/
CATEGORIES:Deadline Dates
END:VEVENT
BEGIN:VEVENT
DTSTART;VALUE=DATE:20260807
DTEND;VALUE=DATE:20260809
DTSTAMP:20260424T010756
CREATED:20260421T173729Z
LAST-MODIFIED:20260421T173729Z
UID:26031-1786060800-1786233599@www.wastatepta.org
SUMMARY:August Leadership Launch
DESCRIPTION:
URL:https://www.wastatepta.org/event/august-leadership-launch-2/
LOCATION:Virtual
END:VEVENT
BEGIN:VEVENT
DTSTART;TZID=America/Los_Angeles:20260811T110000
DTEND;TZID=America/Los_Angeles:20260811T140000
DTSTAMP:20260424T010756
CREATED:20260421T173831Z
LAST-MODIFIED:20260421T174436Z
UID:26033-1786446000-1786456800@www.wastatepta.org
SUMMARY:Summer Board Meeting
DESCRIPTION:
URL:https://www.wastatepta.org/event/summer-board-meeting/
LOCATION:Virtual
CATEGORIES:WSPTA Meeting
END:VEVENT
BEGIN:VEVENT
DTSTART;VALUE=DATE:20260823
DTEND;VALUE=DATE:20260824
DTSTAMP:20260424T010756
CREATED:20260421T184206Z
LAST-MODIFIED:20260421T184737Z
UID:26037-1787443200-1787529599@www.wastatepta.org
SUMMARY:WSPTA Day at the Park - Mariners Game
DESCRIPTION:
URL:https://www.wastatepta.org/event/wspta-mariners-day/
LOCATION:T Mobile Park\, 250 1st Ave S\, Seattle\, WA\, 98134\, United States
CATEGORIES:WSPTA Event
END:VEVENT
BEGIN:VEVENT
DTSTART;TZID=America/Los_Angeles:20260825T173000
DTEND;TZID=America/Los_Angeles:20260825T200000
DTSTAMP:20260424T010756
CREATED:20260421T183248Z
LAST-MODIFIED:20260421T184042Z
UID:26035-1787679000-1787688000@www.wastatepta.org
SUMMARY:Summer Board Meeting
DESCRIPTION:
URL:https://www.wastatepta.org/event/summer-board-meeting-2/
LOCATION:Virtual
CATEGORIES:WSPTA Meeting
END:VEVENT
BEGIN:VEVENT
DTSTART;VALUE=DATE:20260831
DTEND;VALUE=DATE:20260901
DTSTAMP:20260424T010756
CREATED:20210513T231135Z
LAST-MODIFIED:20250924T164637Z
UID:24728-1788134400-1788220799@www.wastatepta.org
SUMMARY:Annual Corporation Renewal
DESCRIPTION:If your PTA incorporated this month\, the annual corporation renewal is due; regardless of the income your PTA earns. This is separate from the Charitable Organization registration/renewal. When you are about to file\, click File Online for Nonprofits. \nYou can check the status of your renewal on the Secretary of State’s website. Enter your UBI number and you will be provided with details of your PTA’s corporation registration.
URL:https://www.wastatepta.org/event/annual-corporation-renewal-21/2026-08-31/
CATEGORIES:Deadline Dates
END:VEVENT
BEGIN:VEVENT
DTSTART;VALUE=DATE:20260907
DTEND;VALUE=DATE:20260908
DTSTAMP:20260424T010756
CREATED:20260421T193134Z
LAST-MODIFIED:20260421T193134Z
UID:26075-1788739200-1788825599@www.wastatepta.org
SUMMARY:Labor Day - Office Closed
DESCRIPTION:The WSPTA office will be closed in observance of Labor Day 
URL:https://www.wastatepta.org/event/labor-day-office-closed-6/
CATEGORIES:WSPTA Office
END:VEVENT
BEGIN:VEVENT
DTSTART;VALUE=DATE:20260930
DTEND;VALUE=DATE:20261001
DTSTAMP:20260424T010757
CREATED:20210513T231135Z
LAST-MODIFIED:20210513T231135Z
UID:25201-1790726400-1790812799@www.wastatepta.org
SUMMARY:Annual Corporation Renewal
DESCRIPTION:If your PTA incorporated this month\, the annual corporation renewal is due; regardless of the income your PTA earns. This is separate from the Charitable Organization registration/renewal. When you are about to file\, click File Online for Nonprofits. \nYou can check the status of your renewal on the Secretary of State’s website. Enter your UBI number and you will be provided with details of your PTA’s corporation registration.
URL:https://www.wastatepta.org/event/annual-corporation-renewal-21/2026-09-30/
CATEGORIES:Deadline Dates
END:VEVENT
BEGIN:VEVENT
DTSTART;VALUE=DATE:20261016
DTEND;VALUE=DATE:20261018
DTSTAMP:20260424T010757
CREATED:20260421T185300Z
LAST-MODIFIED:20260421T185802Z
UID:26043-1792108800-1792281599@www.wastatepta.org
SUMMARY:Legislative Assembly
DESCRIPTION:In person at Cascadia College Mobius Hall in Bothell  \nDate and time subject to change
URL:https://www.wastatepta.org/event/legislative-assembly-3/
LOCATION:Cascadia College\, Bothell\, 18345 Campus Way NE\, Bothell\, WA\, 98011\, United States
END:VEVENT
BEGIN:VEVENT
DTSTART;VALUE=DATE:20261018
DTEND;VALUE=DATE:20261019
DTSTAMP:20260424T010757
CREATED:20260421T185849Z
LAST-MODIFIED:20260421T190157Z
UID:26048-1792281600-1792367999@www.wastatepta.org
SUMMARY:Fall Board Meeting
DESCRIPTION:In-Person TBD
URL:https://www.wastatepta.org/event/fall-board-meeting-2/
CATEGORIES:WSPTA Meeting
END:VEVENT
BEGIN:VEVENT
DTSTART;VALUE=DATE:20261031
DTEND;VALUE=DATE:20261101
DTSTAMP:20260424T010757
CREATED:20210513T231135Z
LAST-MODIFIED:20210513T231135Z
UID:25202-1793404800-1793491199@www.wastatepta.org
SUMMARY:Annual Corporation Renewal
DESCRIPTION:If your PTA incorporated this month\, the annual corporation renewal is due; regardless of the income your PTA earns. This is separate from the Charitable Organization registration/renewal. When you are about to file\, click File Online for Nonprofits. \nYou can check the status of your renewal on the Secretary of State’s website. Enter your UBI number and you will be provided with details of your PTA’s corporation registration.
URL:https://www.wastatepta.org/event/annual-corporation-renewal-21/2026-10-31/
CATEGORIES:Deadline Dates
END:VEVENT
BEGIN:VEVENT
DTSTART;VALUE=DATE:20261111
DTEND;VALUE=DATE:20261112
DTSTAMP:20260424T010757
CREATED:20260421T193224Z
LAST-MODIFIED:20260421T193224Z
UID:26077-1794355200-1794441599@www.wastatepta.org
SUMMARY:Veteran's Day - Office Closed
DESCRIPTION:The WSPTA office will be closed in observance of Veteran’s Day 
URL:https://www.wastatepta.org/event/veterans-day-office-closed-7/
CATEGORIES:WSPTA Office
END:VEVENT
BEGIN:VEVENT
DTSTART;VALUE=DATE:20261114
DTEND;VALUE=DATE:20261115
DTSTAMP:20260424T010757
CREATED:20260421T190409Z
LAST-MODIFIED:20260421T190409Z
UID:26050-1794614400-1794700799@www.wastatepta.org
SUMMARY:Leadership Conference
DESCRIPTION:
URL:https://www.wastatepta.org/event/leadership-conference-3/
LOCATION:Virtual
END:VEVENT
BEGIN:VEVENT
DTSTART;VALUE=DATE:20261126
DTEND;VALUE=DATE:20261128
DTSTAMP:20260424T010757
CREATED:20260421T193357Z
LAST-MODIFIED:20260421T193519Z
UID:26079-1795651200-1795823999@www.wastatepta.org
SUMMARY:Thanksgiving Break - Office Closed
DESCRIPTION:The WSPTA office will be closed in observance of Thanksgiving.
URL:https://www.wastatepta.org/event/thanksgiving-office-closed-5/
CATEGORIES:WSPTA Office
END:VEVENT
BEGIN:VEVENT
DTSTART;VALUE=DATE:20261130
DTEND;VALUE=DATE:20261201
DTSTAMP:20260424T010757
CREATED:20210513T231135Z
LAST-MODIFIED:20210513T231135Z
UID:25280-1795996800-1796083199@www.wastatepta.org
SUMMARY:Annual Corporation Renewal
DESCRIPTION:If your PTA incorporated this month\, the annual corporation renewal is due; regardless of the income your PTA earns. This is separate from the Charitable Organization registration/renewal. When you are about to file\, click File Online for Nonprofits. \nYou can check the status of your renewal on the Secretary of State’s website. Enter your UBI number and you will be provided with details of your PTA’s corporation registration.
URL:https://www.wastatepta.org/event/annual-corporation-renewal-21/2026-11-30/
CATEGORIES:Deadline Dates
END:VEVENT
BEGIN:VEVENT
DTSTART;VALUE=DATE:20261224
DTEND;VALUE=DATE:20270101
DTSTAMP:20260424T010757
CREATED:20260421T193655Z
LAST-MODIFIED:20260421T193738Z
UID:26083-1798070400-1798761599@www.wastatepta.org
SUMMARY:Winter Break - Office Closed
DESCRIPTION:
URL:https://www.wastatepta.org/event/winter-break-office-closed-4/
CATEGORIES:WSPTA Office
END:VEVENT
BEGIN:VEVENT
DTSTART;VALUE=DATE:20261231
DTEND;VALUE=DATE:20270101
DTSTAMP:20260424T010757
CREATED:20210513T231135Z
LAST-MODIFIED:20210513T231135Z
UID:25391-1798675200-1798761599@www.wastatepta.org
SUMMARY:Annual Corporation Renewal
DESCRIPTION:If your PTA incorporated this month\, the annual corporation renewal is due; regardless of the income your PTA earns. This is separate from the Charitable Organization registration/renewal. When you are about to file\, click File Online for Nonprofits. \nYou can check the status of your renewal on the Secretary of State’s website. Enter your UBI number and you will be provided with details of your PTA’s corporation registration.
URL:https://www.wastatepta.org/event/annual-corporation-renewal-21/2026-12-31/
CATEGORIES:Deadline Dates
END:VEVENT
BEGIN:VEVENT
DTSTART;VALUE=DATE:20270101
DTEND;VALUE=DATE:20270102
DTSTAMP:20260424T010757
CREATED:20260421T193844Z
LAST-MODIFIED:20260421T193844Z
UID:26085-1798761600-1798847999@www.wastatepta.org
SUMMARY:New Year's Day - Office Closed
DESCRIPTION:The WSPTA office will be closed in observance of New Year’s Day.
URL:https://www.wastatepta.org/event/new-years-day-office-closed-3/
CATEGORIES:WSPTA Office
END:VEVENT
BEGIN:VEVENT
DTSTART;VALUE=DATE:20270114
DTEND;VALUE=DATE:20270115
DTSTAMP:20260424T010757
CREATED:20260421T190559Z
LAST-MODIFIED:20260421T191912Z
UID:26052-1799884800-1799971199@www.wastatepta.org
SUMMARY:Reflections Submissions Due
DESCRIPTION:Submit online 
URL:https://www.wastatepta.org/event/reflections-submissions-due-3/
CATEGORIES:Deadline Dates,WSPTA Reflections
END:VEVENT
BEGIN:VEVENT
DTSTART;VALUE=DATE:20270118
DTEND;VALUE=DATE:20270119
DTSTAMP:20260424T010757
CREATED:20260421T194017Z
LAST-MODIFIED:20260421T194017Z
UID:26087-1800230400-1800316799@www.wastatepta.org
SUMMARY:Martin Luther King\, Jr. Day - Office Closed
DESCRIPTION:The WSPTA office will be closed in observance of Martin Luther King\, Jr. Day 
URL:https://www.wastatepta.org/event/martin-luther-king-jr-day-office-closed-6/
CATEGORIES:WSPTA Office
END:VEVENT
BEGIN:VEVENT
DTSTART;TZID=America/Los_Angeles:20270130T100000
DTEND;TZID=America/Los_Angeles:20270130T160000
DTSTAMP:20260424T010757
CREATED:20260421T190705Z
LAST-MODIFIED:20260421T190705Z
UID:26054-1801303200-1801324800@www.wastatepta.org
SUMMARY:Winter Board Meeting
DESCRIPTION:
URL:https://www.wastatepta.org/event/winter-board-meeting-2/
LOCATION:Virtual
CATEGORIES:WSPTA Meeting
END:VEVENT
BEGIN:VEVENT
DTSTART;VALUE=DATE:20270131
DTEND;VALUE=DATE:20270201
DTSTAMP:20260424T010757
CREATED:20210513T231135Z
LAST-MODIFIED:20210513T231135Z
UID:25560-1801353600-1801439999@www.wastatepta.org
SUMMARY:Annual Corporation Renewal
DESCRIPTION:If your PTA incorporated this month\, the annual corporation renewal is due; regardless of the income your PTA earns. This is separate from the Charitable Organization registration/renewal. When you are about to file\, click File Online for Nonprofits. \nYou can check the status of your renewal on the Secretary of State’s website. Enter your UBI number and you will be provided with details of your PTA’s corporation registration.
URL:https://www.wastatepta.org/event/annual-corporation-renewal-21/2027-01-31/
CATEGORIES:Deadline Dates
END:VEVENT
BEGIN:VEVENT
DTSTART;VALUE=DATE:20270215
DTEND;VALUE=DATE:20270216
DTSTAMP:20260424T010757
CREATED:20260421T191030Z
LAST-MODIFIED:20260421T191116Z
UID:26056-1802649600-1802735999@www.wastatepta.org
SUMMARY:Focus Day
DESCRIPTION:
URL:https://www.wastatepta.org/event/focus-day-5/
LOCATION:State Capitol\, 416 Sid Snyder Ave SW\, Olympia\, WA\, 98504\, United States
CATEGORIES:WSPTA Event
GEO:47.0357219;-122.9048304
X-APPLE-STRUCTURED-LOCATION;VALUE=URI;X-ADDRESS=State Capitol 416 Sid Snyder Ave SW Olympia WA 98504 United States;X-APPLE-RADIUS=500;X-TITLE=416 Sid Snyder Ave SW:geo:-122.9048304,47.0357219
END:VEVENT
BEGIN:VEVENT
DTSTART;VALUE=DATE:20270215
DTEND;VALUE=DATE:20270220
DTSTAMP:20260424T010757
CREATED:20260421T191218Z
LAST-MODIFIED:20260421T191511Z
UID:26058-1802649600-1803081599@www.wastatepta.org
SUMMARY:Advocacy Week
DESCRIPTION:
URL:https://www.wastatepta.org/event/advocacy-week-3/
LOCATION:Virtual
CATEGORIES:WSPTA Event
END:VEVENT
BEGIN:VEVENT
DTSTART;VALUE=DATE:20270215
DTEND;VALUE=DATE:20270216
DTSTAMP:20260424T010757
CREATED:20260421T194059Z
LAST-MODIFIED:20260421T194059Z
UID:26089-1802649600-1802735999@www.wastatepta.org
SUMMARY:Presidents' Day - Office Closed
DESCRIPTION:The WSPTA office will be closed in observance of Presidents’ Day.
URL:https://www.wastatepta.org/event/presidents-day-office-closed-6/
CATEGORIES:WSPTA Office
END:VEVENT
BEGIN:VEVENT
DTSTART;VALUE=DATE:20270217
DTEND;VALUE=DATE:20270218
DTSTAMP:20260424T010757
CREATED:20220831T043859Z
LAST-MODIFIED:20220831T043859Z
UID:25674-1802822400-1802908799@www.wastatepta.org
SUMMARY:National PTA Founders' Day
DESCRIPTION:National PTA was established in 1897.
URL:https://www.wastatepta.org/event/national-pta-founders-day-3/2027-02-17/
CATEGORIES:Deadline Dates,National PTA
END:VEVENT
BEGIN:VEVENT
DTSTART;VALUE=DATE:20270228
DTEND;VALUE=DATE:20270301
DTSTAMP:20260424T010757
CREATED:20210513T231135Z
LAST-MODIFIED:20210513T231135Z
UID:25693-1803772800-1803859199@www.wastatepta.org
SUMMARY:Annual Corporation Renewal
DESCRIPTION:If your PTA incorporated this month\, the annual corporation renewal is due; regardless of the income your PTA earns. This is separate from the Charitable Organization registration/renewal. When you are about to file\, click File Online for Nonprofits. \nYou can check the status of your renewal on the Secretary of State’s website. Enter your UBI number and you will be provided with details of your PTA’s corporation registration.
URL:https://www.wastatepta.org/event/annual-corporation-renewal-21/2027-02-28/
CATEGORIES:Deadline Dates
END:VEVENT
BEGIN:VEVENT
DTSTART;VALUE=DATE:20270311
DTEND;VALUE=DATE:20270312
DTSTAMP:20260424T010757
CREATED:20260421T191828Z
LAST-MODIFIED:20260421T191828Z
UID:26063-1804723200-1804809599@www.wastatepta.org
SUMMARY:AOE\, Essay\, Scholarship\, Membership Awards Submissions
DESCRIPTION:Submit Online 
URL:https://www.wastatepta.org/event/aoe-essay-scholarship-membership-awards-submissions/
CATEGORIES:Deadline Dates
END:VEVENT
END:VCALENDAR