BEGIN:VCALENDAR
VERSION:2.0
PRODID:-//WSPTA - ECPv6.15.17//NONSGML v1.0//EN
CALSCALE:GREGORIAN
METHOD:PUBLISH
X-ORIGINAL-URL:https://www.wastatepta.org
X-WR-CALDESC:Events for WSPTA
REFRESH-INTERVAL;VALUE=DURATION:PT1H
X-Robots-Tag:noindex
X-PUBLISHED-TTL:PT1H
BEGIN:VTIMEZONE
TZID:America/Los_Angeles
BEGIN:DAYLIGHT
TZOFFSETFROM:-0800
TZOFFSETTO:-0700
TZNAME:PDT
DTSTART:20260308T100000
END:DAYLIGHT
BEGIN:STANDARD
TZOFFSETFROM:-0700
TZOFFSETTO:-0800
TZNAME:PST
DTSTART:20261101T090000
END:STANDARD
BEGIN:DAYLIGHT
TZOFFSETFROM:-0800
TZOFFSETTO:-0700
TZNAME:PDT
DTSTART:20270314T100000
END:DAYLIGHT
BEGIN:STANDARD
TZOFFSETFROM:-0700
TZOFFSETTO:-0800
TZNAME:PST
DTSTART:20271107T090000
END:STANDARD
BEGIN:DAYLIGHT
TZOFFSETFROM:-0800
TZOFFSETTO:-0700
TZNAME:PDT
DTSTART:20280312T100000
END:DAYLIGHT
BEGIN:STANDARD
TZOFFSETFROM:-0700
TZOFFSETTO:-0800
TZNAME:PST
DTSTART:20281105T090000
END:STANDARD
END:VTIMEZONE
BEGIN:VEVENT
DTSTART;VALUE=DATE:20270331
DTEND;VALUE=DATE:20270401
DTSTAMP:20260424T043045
CREATED:20210513T231135Z
LAST-MODIFIED:20210513T231135Z
UID:25859-1806451200-1806537599@www.wastatepta.org
SUMMARY:Annual Corporation Renewal
DESCRIPTION:If your PTA incorporated this month\, the annual corporation renewal is due; regardless of the income your PTA earns. This is separate from the Charitable Organization registration/renewal. When you are about to file\, click File Online for Nonprofits. \nYou can check the status of your renewal on the Secretary of State’s website. Enter your UBI number and you will be provided with details of your PTA’s corporation registration.
URL:https://www.wastatepta.org/event/annual-corporation-renewal-21/2027-03-31/
CATEGORIES:Deadline Dates
END:VEVENT
BEGIN:VEVENT
DTSTART;VALUE=DATE:20270414
DTEND;VALUE=DATE:20270415
DTSTAMP:20260424T043045
CREATED:20210701T205506Z
LAST-MODIFIED:20210701T205506Z
UID:26012-1807660800-1807747199@www.wastatepta.org
SUMMARY:WSPTA Founder's Day
DESCRIPTION:Washington State PTA was founded in April 1905 by Abby Williams Hill of Tacoma\, an artist who saw the need for an organization to support Washington’s children. Thanks to Abby’s leadership and vision—and that of thousands of parents and teachers who have carried her vision forward—Washington State PTA has been a leading voice for children in the state ever since. \nLearn more of Washington State PTA’s history here.
URL:https://www.wastatepta.org/event/wspta-founders-day-3/2027-04-14/
CATEGORIES:WSPTA Office
END:VEVENT
BEGIN:VEVENT
DTSTART;VALUE=DATE:20270430
DTEND;VALUE=DATE:20270503
DTSTAMP:20260424T043045
CREATED:20260421T192125Z
LAST-MODIFIED:20260421T192125Z
UID:26067-1809043200-1809302399@www.wastatepta.org
SUMMARY:Convention and Annual Meeting
DESCRIPTION:
URL:https://www.wastatepta.org/event/convention-and-annual-meeting/
LOCATION:Lynnwood Convention Center\, 3711 196th St SW\, Lynnwood\, Washington\, 98036\, United States
CATEGORIES:WSPTA Event
END:VEVENT
BEGIN:VEVENT
DTSTART;TZID=America/Los_Angeles:20270519T180000
DTEND;TZID=America/Los_Angeles:20270519T210000
DTSTAMP:20260424T043045
CREATED:20260421T192222Z
LAST-MODIFIED:20260421T192222Z
UID:26069-1810749600-1810760400@www.wastatepta.org
SUMMARY:Spring Board Meeting
DESCRIPTION:
URL:https://www.wastatepta.org/event/spring-board-meeting-2/
LOCATION:Virtual
CATEGORIES:WSPTA Meeting
END:VEVENT
BEGIN:VEVENT
DTSTART;VALUE=DATE:20270531
DTEND;VALUE=DATE:20270601
DTSTAMP:20260424T043045
CREATED:20260421T194156Z
LAST-MODIFIED:20260421T194156Z
UID:26091-1811721600-1811807999@www.wastatepta.org
SUMMARY:Memorial Day - Office Closed
DESCRIPTION:The WSPTA office will be closed in observance of Memorial Day. 
URL:https://www.wastatepta.org/event/memorial-day-office-closed-5/
CATEGORIES:WSPTA Office
END:VEVENT
END:VCALENDAR