BEGIN:VCALENDAR
VERSION:2.0
PRODID:-//WSPTA - ECPv6.15.17//NONSGML v1.0//EN
CALSCALE:GREGORIAN
METHOD:PUBLISH
X-WR-CALNAME:WSPTA
X-ORIGINAL-URL:https://www.wastatepta.org
X-WR-CALDESC:Events for WSPTA
REFRESH-INTERVAL;VALUE=DURATION:PT1H
X-Robots-Tag:noindex
X-PUBLISHED-TTL:PT1H
BEGIN:VTIMEZONE
TZID:America/Los_Angeles
BEGIN:DAYLIGHT
TZOFFSETFROM:-0800
TZOFFSETTO:-0700
TZNAME:PDT
DTSTART:20210314T100000
END:DAYLIGHT
BEGIN:STANDARD
TZOFFSETFROM:-0700
TZOFFSETTO:-0800
TZNAME:PST
DTSTART:20211107T090000
END:STANDARD
BEGIN:DAYLIGHT
TZOFFSETFROM:-0800
TZOFFSETTO:-0700
TZNAME:PDT
DTSTART:20220313T100000
END:DAYLIGHT
BEGIN:STANDARD
TZOFFSETFROM:-0700
TZOFFSETTO:-0800
TZNAME:PST
DTSTART:20221106T090000
END:STANDARD
BEGIN:DAYLIGHT
TZOFFSETFROM:-0800
TZOFFSETTO:-0700
TZNAME:PDT
DTSTART:20230312T100000
END:DAYLIGHT
BEGIN:STANDARD
TZOFFSETFROM:-0700
TZOFFSETTO:-0800
TZNAME:PST
DTSTART:20231105T090000
END:STANDARD
BEGIN:DAYLIGHT
TZOFFSETFROM:-0800
TZOFFSETTO:-0700
TZNAME:PDT
DTSTART:20240310T100000
END:DAYLIGHT
BEGIN:STANDARD
TZOFFSETFROM:-0700
TZOFFSETTO:-0800
TZNAME:PST
DTSTART:20241103T090000
END:STANDARD
BEGIN:DAYLIGHT
TZOFFSETFROM:-0800
TZOFFSETTO:-0700
TZNAME:PDT
DTSTART:20250309T100000
END:DAYLIGHT
BEGIN:STANDARD
TZOFFSETFROM:-0700
TZOFFSETTO:-0800
TZNAME:PST
DTSTART:20251102T090000
END:STANDARD
BEGIN:DAYLIGHT
TZOFFSETFROM:-0800
TZOFFSETTO:-0700
TZNAME:PDT
DTSTART:20260308T100000
END:DAYLIGHT
BEGIN:STANDARD
TZOFFSETFROM:-0700
TZOFFSETTO:-0800
TZNAME:PST
DTSTART:20261101T090000
END:STANDARD
BEGIN:DAYLIGHT
TZOFFSETFROM:-0800
TZOFFSETTO:-0700
TZNAME:PDT
DTSTART:20270314T100000
END:DAYLIGHT
BEGIN:STANDARD
TZOFFSETFROM:-0700
TZOFFSETTO:-0800
TZNAME:PST
DTSTART:20271107T090000
END:STANDARD
BEGIN:DAYLIGHT
TZOFFSETFROM:-0800
TZOFFSETTO:-0700
TZNAME:PDT
DTSTART:20280312T100000
END:DAYLIGHT
BEGIN:STANDARD
TZOFFSETFROM:-0700
TZOFFSETTO:-0800
TZNAME:PST
DTSTART:20281105T090000
END:STANDARD
END:VTIMEZONE
BEGIN:VEVENT
DTSTART;VALUE=DATE:20220117
DTEND;VALUE=DATE:20220118
DTSTAMP:20260421T144011
CREATED:20210701T210447Z
LAST-MODIFIED:20210701T211042Z
UID:15133-1642377600-1642463999@www.wastatepta.org
SUMMARY:Office closed - Martin Luther King Jr. Day
DESCRIPTION:The office will be closed in observance of Martin Luther King Jr. Day.
URL:https://www.wastatepta.org/event/holiday-martin-luther-king-jr-day/
CATEGORIES:Deadline Dates,WSPTA Office
END:VEVENT
BEGIN:VEVENT
DTSTART;VALUE=DATE:20220221
DTEND;VALUE=DATE:20220222
DTSTAMP:20260421T144011
CREATED:20210701T210302Z
LAST-MODIFIED:20220202T220130Z
UID:15131-1645401600-1645487999@www.wastatepta.org
SUMMARY:Office closed - Presidents' Day
DESCRIPTION:The office will be closed in observance of President’s Day
URL:https://www.wastatepta.org/event/holiday-presidents-day/
CATEGORIES:Deadline Dates,WSPTA Office
END:VEVENT
BEGIN:VEVENT
DTSTART;VALUE=DATE:20220414
DTEND;VALUE=DATE:20220415
DTSTAMP:20260421T144011
CREATED:20210701T205506Z
LAST-MODIFIED:20220831T225259Z
UID:15125-1649894400-1649980799@www.wastatepta.org
SUMMARY:WSPTA Founder's Day
DESCRIPTION:Washington State PTA was founded in April 1905 by Abby Williams Hill of Tacoma\, an artist who saw the need for an organization to support Washington’s children. Thanks to Abby’s leadership and vision—and that of thousands of parents and teachers who have carried her vision forward—Washington State PTA has been a leading voice for children in the state ever since. \nLearn more of Washington State PTA’s history here.
URL:https://www.wastatepta.org/event/wspta-founders-day-3/2022-04-14/
CATEGORIES:WSPTA Office
END:VEVENT
BEGIN:VEVENT
DTSTART;VALUE=DATE:20220523
DTEND;VALUE=DATE:20220524
DTSTAMP:20260421T144011
CREATED:20220505T223524Z
LAST-MODIFIED:20220505T223524Z
UID:17119-1653264000-1653350399@www.wastatepta.org
SUMMARY:Office Closed
DESCRIPTION:
URL:https://www.wastatepta.org/event/office-closed-3/
CATEGORIES:WSPTA Office
END:VEVENT
BEGIN:VEVENT
DTSTART;VALUE=DATE:20220530
DTEND;VALUE=DATE:20220531
DTSTAMP:20260421T144011
CREATED:20210701T204952Z
LAST-MODIFIED:20210701T211011Z
UID:15121-1653868800-1653955199@www.wastatepta.org
SUMMARY:Office closed - Memorial Day
DESCRIPTION:The office will be closed in observance of Memorial Day.
URL:https://www.wastatepta.org/event/holiday-memorial-day/
CATEGORIES:Deadline Dates,WSPTA Office
END:VEVENT
BEGIN:VEVENT
DTSTART;VALUE=DATE:20220620
DTEND;VALUE=DATE:20220621
DTSTAMP:20260421T144011
CREATED:20210701T204806Z
LAST-MODIFIED:20210701T210958Z
UID:15119-1655683200-1655769599@www.wastatepta.org
SUMMARY:Office closed -  Juneteenth Independence Day
DESCRIPTION:The office will be closed in observance of Juneteenth Independence Day.
URL:https://www.wastatepta.org/event/holiday-juneteenth-independence-day/
CATEGORIES:Deadline Dates,WSPTA Office
END:VEVENT
BEGIN:VEVENT
DTSTART;VALUE=DATE:20221124
DTEND;VALUE=DATE:20221126
DTSTAMP:20260421T144011
CREATED:20220831T043326Z
LAST-MODIFIED:20220914T022940Z
UID:17741-1669248000-1669420799@www.wastatepta.org
SUMMARY:Thanksgiving - Office Closed
DESCRIPTION:
URL:https://www.wastatepta.org/event/thanksgiving-office-closed/
CATEGORIES:Deadline Dates,WSPTA Office
END:VEVENT
BEGIN:VEVENT
DTSTART;VALUE=DATE:20250502
DTEND;VALUE=DATE:20250505
DTSTAMP:20260421T144011
CREATED:20250304T022735Z
LAST-MODIFIED:20250304T022735Z
UID:23916-1746144000-1746403199@www.wastatepta.org
SUMMARY:112th WSPTA Convention and Annual Meeting
DESCRIPTION:Learn more here: https://wastatepta.org/events-programs/convention/
URL:https://www.wastatepta.org/event/112th-wspta-convention-and-annual-meeting/
CATEGORIES:Leadership Development/Training Opportunity,WSPTA Event,WSPTA Meeting,WSPTA Office,WSPTA Reflections
END:VEVENT
BEGIN:VEVENT
DTSTART;VALUE=DATE:20250901
DTEND;VALUE=DATE:20250902
DTSTAMP:20260421T144011
CREATED:20250822T184430Z
LAST-MODIFIED:20250822T185502Z
UID:24660-1756684800-1756771199@www.wastatepta.org
SUMMARY:Labor Day - Office Closed
DESCRIPTION:The WSPTA office will be closed in observance of Labor Day
URL:https://www.wastatepta.org/event/office-closure-labor-day-2/
CATEGORIES:WSPTA Office
END:VEVENT
BEGIN:VEVENT
DTSTART;VALUE=DATE:20251020
DTEND;VALUE=DATE:20251021
DTSTAMP:20260421T144011
CREATED:20251019T170444Z
LAST-MODIFIED:20251019T170444Z
UID:25105-1760918400-1761004799@www.wastatepta.org
SUMMARY:Office Closed
DESCRIPTION:The WSPTA office will be closed.
URL:https://www.wastatepta.org/event/office-closed-4/
CATEGORIES:WSPTA Office
END:VEVENT
BEGIN:VEVENT
DTSTART;VALUE=DATE:20251111
DTEND;VALUE=DATE:20251112
DTSTAMP:20260421T144011
CREATED:20250822T193941Z
LAST-MODIFIED:20250822T195218Z
UID:24694-1762819200-1762905599@www.wastatepta.org
SUMMARY:Veterans Day - Office Closed
DESCRIPTION:The WSPTA office will be closed in observance of Veterans Day.
URL:https://www.wastatepta.org/event/veterans-day-office-closed-6/
CATEGORIES:WSPTA Office
END:VEVENT
BEGIN:VEVENT
DTSTART;VALUE=DATE:20251224
DTEND;VALUE=DATE:20260101
DTSTAMP:20260421T144011
CREATED:20250822T194032Z
LAST-MODIFIED:20250822T194341Z
UID:24696-1766534400-1767225599@www.wastatepta.org
SUMMARY:Winter Break - Office Closed
DESCRIPTION:
URL:https://www.wastatepta.org/event/thanksgiving-office-closed-4/
CATEGORIES:WSPTA Office
END:VEVENT
BEGIN:VEVENT
DTSTART;VALUE=DATE:20260101
DTEND;VALUE=DATE:20260102
DTSTAMP:20260421T144011
CREATED:20250822T194458Z
LAST-MODIFIED:20250822T194458Z
UID:24700-1767225600-1767311999@www.wastatepta.org
SUMMARY:New Year's Day - Office Closed
DESCRIPTION:The WSPTA office will be closed in observance of New Year’s Day.
URL:https://www.wastatepta.org/event/new-years-day-office-closed-2/
CATEGORIES:WSPTA Office
END:VEVENT
BEGIN:VEVENT
DTSTART;VALUE=DATE:20260119
DTEND;VALUE=DATE:20260120
DTSTAMP:20260421T144011
CREATED:20250822T194654Z
LAST-MODIFIED:20250822T194654Z
UID:24702-1768780800-1768867199@www.wastatepta.org
SUMMARY:Martin Luther King\, Jr. Day - Office Closed
DESCRIPTION:The WSPTA office will be closed in observance of Martin Luther King\, Jr. Day.
URL:https://www.wastatepta.org/event/martin-luther-king-jr-day-office-closed-5/
CATEGORIES:WSPTA Office
END:VEVENT
BEGIN:VEVENT
DTSTART;VALUE=DATE:20260216
DTEND;VALUE=DATE:20260217
DTSTAMP:20260421T144011
CREATED:20250822T194818Z
LAST-MODIFIED:20250822T194818Z
UID:24704-1771200000-1771286399@www.wastatepta.org
SUMMARY:Presidents' Day - Office Closed
DESCRIPTION:The WSPTA office will be closed in observance of Presidents’ Day.
URL:https://www.wastatepta.org/event/presidents-day-office-closed-5/
CATEGORIES:WSPTA Office
END:VEVENT
BEGIN:VEVENT
DTSTART;VALUE=DATE:20260414
DTEND;VALUE=DATE:20260415
DTSTAMP:20260421T144011
CREATED:20210701T205506Z
LAST-MODIFIED:20210701T205506Z
UID:24155-1776124800-1776211199@www.wastatepta.org
SUMMARY:WSPTA Founder's Day
DESCRIPTION:Washington State PTA was founded in April 1905 by Abby Williams Hill of Tacoma\, an artist who saw the need for an organization to support Washington’s children. Thanks to Abby’s leadership and vision—and that of thousands of parents and teachers who have carried her vision forward—Washington State PTA has been a leading voice for children in the state ever since. \nLearn more of Washington State PTA’s history here.
URL:https://www.wastatepta.org/event/wspta-founders-day-3/2026-04-14/
CATEGORIES:WSPTA Office
END:VEVENT
BEGIN:VEVENT
DTSTART;VALUE=DATE:20260525
DTEND;VALUE=DATE:20260526
DTSTAMP:20260421T144011
CREATED:20250822T194913Z
LAST-MODIFIED:20250822T194913Z
UID:24706-1779667200-1779753599@www.wastatepta.org
SUMMARY:Memorial Day - Office Closed
DESCRIPTION:The WSPTA office will be closed in observance of Memorial Day.
URL:https://www.wastatepta.org/event/memorial-day-office-closed-4/
CATEGORIES:WSPTA Office
END:VEVENT
BEGIN:VEVENT
DTSTART;VALUE=DATE:20260619
DTEND;VALUE=DATE:20260620
DTSTAMP:20260421T144011
CREATED:20260421T192905Z
LAST-MODIFIED:20260421T192905Z
UID:26071-1781827200-1781913599@www.wastatepta.org
SUMMARY:Juneteenth - Office Closed
DESCRIPTION:The WSPTA office will be closed in observance of Juneteenth 
URL:https://www.wastatepta.org/event/juneteenth-office-closed-2/
CATEGORIES:WSPTA Office
END:VEVENT
BEGIN:VEVENT
DTSTART;VALUE=DATE:20260703
DTEND;VALUE=DATE:20260704
DTSTAMP:20260421T144011
CREATED:20260421T193044Z
LAST-MODIFIED:20260421T193044Z
UID:26073-1783036800-1783123199@www.wastatepta.org
SUMMARY:Independence Day - Office Closed
DESCRIPTION:The WSPTA office will be closed in observance of Independence Day
URL:https://www.wastatepta.org/event/independence-day-office-closed-5/
CATEGORIES:WSPTA Office
END:VEVENT
BEGIN:VEVENT
DTSTART;VALUE=DATE:20260907
DTEND;VALUE=DATE:20260908
DTSTAMP:20260421T144011
CREATED:20260421T193134Z
LAST-MODIFIED:20260421T193134Z
UID:26075-1788739200-1788825599@www.wastatepta.org
SUMMARY:Labor Day - Office Closed
DESCRIPTION:The WSPTA office will be closed in observance of Labor Day 
URL:https://www.wastatepta.org/event/labor-day-office-closed-6/
CATEGORIES:WSPTA Office
END:VEVENT
BEGIN:VEVENT
DTSTART;VALUE=DATE:20261111
DTEND;VALUE=DATE:20261112
DTSTAMP:20260421T144011
CREATED:20260421T193224Z
LAST-MODIFIED:20260421T193224Z
UID:26077-1794355200-1794441599@www.wastatepta.org
SUMMARY:Veteran's Day - Office Closed
DESCRIPTION:The WSPTA office will be closed in observance of Veteran’s Day 
URL:https://www.wastatepta.org/event/veterans-day-office-closed-7/
CATEGORIES:WSPTA Office
END:VEVENT
BEGIN:VEVENT
DTSTART;VALUE=DATE:20261126
DTEND;VALUE=DATE:20261128
DTSTAMP:20260421T144011
CREATED:20260421T193357Z
LAST-MODIFIED:20260421T193519Z
UID:26079-1795651200-1795823999@www.wastatepta.org
SUMMARY:Thanksgiving Break - Office Closed
DESCRIPTION:The WSPTA office will be closed in observance of Thanksgiving.
URL:https://www.wastatepta.org/event/thanksgiving-office-closed-5/
CATEGORIES:WSPTA Office
END:VEVENT
BEGIN:VEVENT
DTSTART;VALUE=DATE:20261224
DTEND;VALUE=DATE:20270101
DTSTAMP:20260421T144011
CREATED:20260421T193655Z
LAST-MODIFIED:20260421T193738Z
UID:26083-1798070400-1798761599@www.wastatepta.org
SUMMARY:Winter Break - Office Closed
DESCRIPTION:
URL:https://www.wastatepta.org/event/winter-break-office-closed-4/
CATEGORIES:WSPTA Office
END:VEVENT
BEGIN:VEVENT
DTSTART;VALUE=DATE:20270101
DTEND;VALUE=DATE:20270102
DTSTAMP:20260421T144011
CREATED:20260421T193844Z
LAST-MODIFIED:20260421T193844Z
UID:26085-1798761600-1798847999@www.wastatepta.org
SUMMARY:New Year's Day - Office Closed
DESCRIPTION:The WSPTA office will be closed in observance of New Year’s Day.
URL:https://www.wastatepta.org/event/new-years-day-office-closed-3/
CATEGORIES:WSPTA Office
END:VEVENT
BEGIN:VEVENT
DTSTART;VALUE=DATE:20270118
DTEND;VALUE=DATE:20270119
DTSTAMP:20260421T144011
CREATED:20260421T194017Z
LAST-MODIFIED:20260421T194017Z
UID:26087-1800230400-1800316799@www.wastatepta.org
SUMMARY:Martin Luther King\, Jr. Day - Office Closed
DESCRIPTION:The WSPTA office will be closed in observance of Martin Luther King\, Jr. Day 
URL:https://www.wastatepta.org/event/martin-luther-king-jr-day-office-closed-6/
CATEGORIES:WSPTA Office
END:VEVENT
BEGIN:VEVENT
DTSTART;VALUE=DATE:20270215
DTEND;VALUE=DATE:20270216
DTSTAMP:20260421T144011
CREATED:20260421T194059Z
LAST-MODIFIED:20260421T194059Z
UID:26089-1802649600-1802735999@www.wastatepta.org
SUMMARY:Presidents' Day - Office Closed
DESCRIPTION:The WSPTA office will be closed in observance of Presidents’ Day.
URL:https://www.wastatepta.org/event/presidents-day-office-closed-6/
CATEGORIES:WSPTA Office
END:VEVENT
BEGIN:VEVENT
DTSTART;VALUE=DATE:20270414
DTEND;VALUE=DATE:20270415
DTSTAMP:20260421T144011
CREATED:20210701T205506Z
LAST-MODIFIED:20210701T205506Z
UID:26012-1807660800-1807747199@www.wastatepta.org
SUMMARY:WSPTA Founder's Day
DESCRIPTION:Washington State PTA was founded in April 1905 by Abby Williams Hill of Tacoma\, an artist who saw the need for an organization to support Washington’s children. Thanks to Abby’s leadership and vision—and that of thousands of parents and teachers who have carried her vision forward—Washington State PTA has been a leading voice for children in the state ever since. \nLearn more of Washington State PTA’s history here.
URL:https://www.wastatepta.org/event/wspta-founders-day-3/2027-04-14/
CATEGORIES:WSPTA Office
END:VEVENT
BEGIN:VEVENT
DTSTART;VALUE=DATE:20270531
DTEND;VALUE=DATE:20270601
DTSTAMP:20260421T144011
CREATED:20260421T194156Z
LAST-MODIFIED:20260421T194156Z
UID:26091-1811721600-1811807999@www.wastatepta.org
SUMMARY:Memorial Day - Office Closed
DESCRIPTION:The WSPTA office will be closed in observance of Memorial Day. 
URL:https://www.wastatepta.org/event/memorial-day-office-closed-5/
CATEGORIES:WSPTA Office
END:VEVENT
END:VCALENDAR