BEGIN:VCALENDAR
VERSION:2.0
PRODID:-//WSPTA - ECPv6.15.17//NONSGML v1.0//EN
CALSCALE:GREGORIAN
METHOD:PUBLISH
X-ORIGINAL-URL:https://www.wastatepta.org
X-WR-CALDESC:Events for WSPTA
REFRESH-INTERVAL;VALUE=DURATION:PT1H
X-Robots-Tag:noindex
X-PUBLISHED-TTL:PT1H
BEGIN:VTIMEZONE
TZID:America/Los_Angeles
BEGIN:DAYLIGHT
TZOFFSETFROM:-0800
TZOFFSETTO:-0700
TZNAME:PDT
DTSTART:20230312T100000
END:DAYLIGHT
BEGIN:STANDARD
TZOFFSETFROM:-0700
TZOFFSETTO:-0800
TZNAME:PST
DTSTART:20231105T090000
END:STANDARD
BEGIN:DAYLIGHT
TZOFFSETFROM:-0800
TZOFFSETTO:-0700
TZNAME:PDT
DTSTART:20240310T100000
END:DAYLIGHT
BEGIN:STANDARD
TZOFFSETFROM:-0700
TZOFFSETTO:-0800
TZNAME:PST
DTSTART:20241103T090000
END:STANDARD
BEGIN:DAYLIGHT
TZOFFSETFROM:-0800
TZOFFSETTO:-0700
TZNAME:PDT
DTSTART:20250309T100000
END:DAYLIGHT
BEGIN:STANDARD
TZOFFSETFROM:-0700
TZOFFSETTO:-0800
TZNAME:PST
DTSTART:20251102T090000
END:STANDARD
BEGIN:DAYLIGHT
TZOFFSETFROM:-0800
TZOFFSETTO:-0700
TZNAME:PDT
DTSTART:20260308T100000
END:DAYLIGHT
BEGIN:STANDARD
TZOFFSETFROM:-0700
TZOFFSETTO:-0800
TZNAME:PST
DTSTART:20261101T090000
END:STANDARD
BEGIN:DAYLIGHT
TZOFFSETFROM:-0800
TZOFFSETTO:-0700
TZNAME:PDT
DTSTART:20270314T100000
END:DAYLIGHT
BEGIN:STANDARD
TZOFFSETFROM:-0700
TZOFFSETTO:-0800
TZNAME:PST
DTSTART:20271107T090000
END:STANDARD
END:VTIMEZONE
BEGIN:VEVENT
DTSTART;TZID=America/Los_Angeles:20260302T190000
DTEND;TZID=America/Los_Angeles:20260302T203000
DTSTAMP:20260422T011715
CREATED:20251114T005919Z
LAST-MODIFIED:20251114T005919Z
UID:25223-1772478000-1772483400@www.wastatepta.org
SUMMARY:WSPTA Programs/Reflections Workshop
DESCRIPTION:Are you running a Reflections program and having some questions or need some inspiration or advice?\nNeed help advertising the Essay Contest?\nWant to apply for an Awards of Excellence but not sure where to start?\nWant to apply for a Leadership Service Award but dont know where to start?\nCome ask questions and learn about HOW TO SUBMIT Reflections and other applications! These are all drop in so don’t feel like you have to stay the whole time. We want to celebrate the work your students and PTAs do and we want you to know all about the great programs WSPTA offers! \nRegister below
URL:https://www.wastatepta.org/event/wspta-programs-reflections-workshop-3/
CATEGORIES:WSPTA Reflections
END:VEVENT
BEGIN:VEVENT
DTSTART;TZID=America/Los_Angeles:20260202T100000
DTEND;TZID=America/Los_Angeles:20260202T110000
DTSTAMP:20260422T011715
CREATED:20251114T004556Z
LAST-MODIFIED:20251114T004556Z
UID:25221-1770026400-1770030000@www.wastatepta.org
SUMMARY:WSPTA Programs/Reflections Workshop
DESCRIPTION:Are you running a Reflections program and having some questions or need some inspiration or advice?\nNeed help advertising the Essay Contest?\nWant to apply for an Awards of Excellence but not sure where to start?\nWant to apply for a Leadership Service Award but dont know where to start?\nCome ask questions and learn about Reflections and our other WSPTA programs and how you can apply! These are all drop in so don’t feel like you have to stay the whole time. We want to celebrate the work your students and PTAs do and we want you to know all about the great programs WSPTA offers! \nRegister below.
URL:https://www.wastatepta.org/event/wspta-programs-reflections-workshop-2/
CATEGORIES:WSPTA Reflections
END:VEVENT
BEGIN:VEVENT
DTSTART;VALUE=DATE:20260114
DTEND;VALUE=DATE:20260115
DTSTAMP:20260422T011715
CREATED:20250822T190435Z
LAST-MODIFIED:20250822T190435Z
UID:24674-1768348800-1768435199@www.wastatepta.org
SUMMARY:Reflections Submissions Due
DESCRIPTION:Submit online.
URL:https://www.wastatepta.org/event/reflections-submissions-due-2/
CATEGORIES:WSPTA Reflections
END:VEVENT
BEGIN:VEVENT
DTSTART;TZID=America/Los_Angeles:20260106T190000
DTEND;TZID=America/Los_Angeles:20260106T200000
DTSTAMP:20260422T011715
CREATED:20251114T003432Z
LAST-MODIFIED:20251114T003444Z
UID:25218-1767726000-1767729600@www.wastatepta.org
SUMMARY:Reflections Submission Training
DESCRIPTION:A night to learn how to turn in your Reflections Submissions for councils and non-council PTAs. Please bring questions if you have them! \nRegister below.
URL:https://www.wastatepta.org/event/reflections-submission-training-2/
CATEGORIES:WSPTA Reflections
END:VEVENT
BEGIN:VEVENT
DTSTART;TZID=America/Los_Angeles:20251201T100000
DTEND;TZID=America/Los_Angeles:20251201T110000
DTSTAMP:20260422T011715
CREATED:20251114T194024Z
LAST-MODIFIED:20251114T194024Z
UID:25227-1764583200-1764586800@www.wastatepta.org
SUMMARY:WSPTA Programs/Reflections Workshop
DESCRIPTION:Are you running a Reflections program and having some questions or need some inspiration or advice?\nNeed help advertising the Essay Contest?\nWant to apply for an Awards of Excellence but not sure where to start?\nWant to apply for a Leadership Service Award but don’t know where to start?\nCome ask questions and learn about Reflections and our other WSPTA programs and how you can apply! These are all drop in so dont feel like you have to stay the whole time. We want to celebrate the work your students and PTAs do and we want you to know all about the great programs WSPTA offers! \nRegister below
URL:https://www.wastatepta.org/event/wspta-programs-reflections-workshop-4/
CATEGORIES:WSPTA Reflections
END:VEVENT
BEGIN:VEVENT
DTSTART;VALUE=DATE:20251103
DTEND;VALUE=DATE:20251104
DTSTAMP:20260422T011715
CREATED:20250822T190147Z
LAST-MODIFIED:20251024T145617Z
UID:24670-1762128000-1762214399@www.wastatepta.org
SUMMARY:Reflections Theme Contest
DESCRIPTION:Submit Online
URL:https://www.wastatepta.org/event/reflections-team-contest/
CATEGORIES:WSPTA Reflections
END:VEVENT
BEGIN:VEVENT
DTSTART;TZID=America/Los_Angeles:20251004T100000
DTEND;TZID=America/Los_Angeles:20251004T120000
DTSTAMP:20260422T011715
CREATED:20250818T213519Z
LAST-MODIFIED:20250818T213519Z
UID:24616-1759572000-1759579200@www.wastatepta.org
SUMMARY:Reflections 2025-26 Training
DESCRIPTION:Come learn how to run a successful Reflections program at the local or council level. Learn the new updates from National PTA. \n  \nRegister here
URL:https://www.wastatepta.org/event/reflections-2025-26-training/
CATEGORIES:WSPTA Reflections
END:VEVENT
BEGIN:VEVENT
DTSTART;TZID=America/Los_Angeles:20250915T190000
DTEND;TZID=America/Los_Angeles:20250915T210000
DTSTAMP:20260422T011715
CREATED:20250818T204201Z
LAST-MODIFIED:20250818T204234Z
UID:24612-1757962800-1757970000@www.wastatepta.org
SUMMARY:Reflections Training 2025-26
DESCRIPTION:Come learn how to run a successful Reflections program at the local or council level. Learn the new updates from National PTA. \nRegister here
URL:https://www.wastatepta.org/event/reflections-training-2025-26/
CATEGORIES:WSPTA Reflections
END:VEVENT
BEGIN:VEVENT
DTSTART;TZID=America/Los_Angeles:20250912T100000
DTEND;TZID=America/Los_Angeles:20250912T110000
DTSTAMP:20260422T011715
CREATED:20250813T215206Z
LAST-MODIFIED:20250813T215206Z
UID:24602-1757671200-1757674800@www.wastatepta.org
SUMMARY:WSPTA Programs Kickoff Event
DESCRIPTION:Come to our kickoff event to learn all the things you need to know to run successful WSPTA programs in your PTA. Learn about the different student programs and hear about the awards that your PTA can apply for. We will also hear from past winners and our new awards! There will also be lots of tips and tricks for running successful programs! \nRegister here: Zoom registration
URL:https://www.wastatepta.org/event/wspta-programs-kickoff-event-2/
CATEGORIES:WSPTA Reflections
END:VEVENT
BEGIN:VEVENT
DTSTART;TZID=America/Los_Angeles:20250911T183000
DTEND;TZID=America/Los_Angeles:20250911T193000
DTSTAMP:20260422T011715
CREATED:20250813T212117Z
LAST-MODIFIED:20250813T212221Z
UID:24599-1757615400-1757619000@www.wastatepta.org
SUMMARY:WSPTA Programs Kickoff Event
DESCRIPTION:Come to our kickoff event to learn all the things you need to know to run successful WSPTA programs in your PTA. Learn about the different student programs and hear about the awards that your PTA can apply for. We will also hear from past winners and our new awards! There will also be lots of tips and tricks for running successful programs! \nRegister here: Zoom registration
URL:https://www.wastatepta.org/event/wspta-programs-kickoff-event/
CATEGORIES:WSPTA Reflections
END:VEVENT
BEGIN:VEVENT
DTSTART;VALUE=DATE:20250502
DTEND;VALUE=DATE:20250505
DTSTAMP:20260422T011715
CREATED:20250304T022735Z
LAST-MODIFIED:20250304T022735Z
UID:23916-1746144000-1746403199@www.wastatepta.org
SUMMARY:112th WSPTA Convention and Annual Meeting
DESCRIPTION:Learn more here: https://wastatepta.org/events-programs/convention/
URL:https://www.wastatepta.org/event/112th-wspta-convention-and-annual-meeting/
CATEGORIES:Leadership Development/Training Opportunity,WSPTA Event,WSPTA Meeting,WSPTA Office,WSPTA Reflections
END:VEVENT
BEGIN:VEVENT
DTSTART;VALUE=DATE:20250115
DTEND;VALUE=DATE:20250116
DTSTAMP:20260422T011715
CREATED:20240723T212156Z
LAST-MODIFIED:20240807T163323Z
UID:22750-1736899200-1736985599@www.wastatepta.org
SUMMARY:Reflections Deadline - Submissions by Councils & Non-Council PTAs to WSPTA
DESCRIPTION:Reflections Chairs at the council level (and at PTAs not part of a council) must submit their entries to the statewide Reflections Arts Contest by this date. \nPlease ntoe that this is not the deadline for students to submit their entries to their local Reflections contest nor is it the deadline for PTAs to submit entries to their councils. Those deadline are set at the local level. Please reach out to your local Reflections Chair for information on local deadlines. \nVisit the Reflections Arts Contest webpage here: https://wastatepta.org/events-programs/reflections/
URL:https://www.wastatepta.org/event/state-reflections-contest-deadline/
CATEGORIES:Deadline Dates,WSPTA Reflections
END:VEVENT
BEGIN:VEVENT
DTSTART;TZID=America/Los_Angeles:20250106T183000
DTEND;TZID=America/Los_Angeles:20250106T193000
DTSTAMP:20260422T011715
CREATED:20241204T221132Z
LAST-MODIFIED:20241204T221132Z
UID:23387-1736188200-1736191800@www.wastatepta.org
SUMMARY:Reflections Submission Training
DESCRIPTION:It’s almost time to submit your Reflections entries to Washington State PTA! Join us as we go over the most recent instructions and demonstration of how to submit your entries using the online portal. If you’re the Reflections chair for your school or council and can’t make this event\, please send someone who can pass along the information to you. See you soon!
URL:https://www.wastatepta.org/event/reflections-submission-training/
CATEGORIES:WSPTA Reflections
END:VEVENT
BEGIN:VEVENT
DTSTART;TZID=America/Los_Angeles:20241104T080000
DTEND;TZID=America/Los_Angeles:20241104T120000
DTSTAMP:20260422T011715
CREATED:20240807T162724Z
LAST-MODIFIED:20240807T162724Z
UID:22811-1730707200-1730721600@www.wastatepta.org
SUMMARY:Reflections Theme Search Contest Deadline
DESCRIPTION:Click here to submit a theme idea for the 2026-27 Reflections Arts Contest. Eligibility is limited to students at schools with active PTAs/PTSAs.
URL:https://www.wastatepta.org/event/reflections-theme-search-contest-deadline/
CATEGORIES:Deadline Dates,WSPTA Reflections
END:VEVENT
BEGIN:VEVENT
DTSTART;TZID=America/Los_Angeles:20241005T100000
DTEND;TZID=America/Los_Angeles:20241005T113000
DTSTAMP:20260422T011715
CREATED:20240827T164330Z
LAST-MODIFIED:20240912T041629Z
UID:22883-1728122400-1728127800@www.wastatepta.org
SUMMARY:Reflections Leader/Chair Training for 2024
DESCRIPTION:This annual Reflections training is for local PTA and council Reflections chairs. Whether a returning/veteran chair or brand new to the role\, there will be information you will need to run your program this year. We will review the overall Reflections student art program and highlight the several changes to the program during the training. \nRegister below.
URL:https://www.wastatepta.org/event/reflection-leader-chair-training-for-2024-2/
CATEGORIES:WSPTA Reflections
END:VEVENT
BEGIN:VEVENT
DTSTART;TZID=America/Los_Angeles:20240925T183000
DTEND;TZID=America/Los_Angeles:20240925T200000
DTSTAMP:20260422T011715
CREATED:20240812T215709Z
LAST-MODIFIED:20240926T201403Z
UID:22843-1727289000-1727294400@www.wastatepta.org
SUMMARY:Reflection Leader/Chair Training for 2024
DESCRIPTION:This annual Reflections training is for local PTA and council Reflections chairs. Whether a returning/veteran chair or brand new to the role\, there will be information you will need to run your program this year. We will review the overall Reflections student art program and highlight the several changes to the program during the training. \nHere is a recording of the event: https://vimeo.com/1013288412
URL:https://www.wastatepta.org/event/reflection-leader-chair-training-for-2024/
CATEGORIES:WSPTA Reflections
END:VEVENT
END:VCALENDAR