BEGIN:VCALENDAR
VERSION:2.0
PRODID:-//WSPTA - ECPv6.15.17//NONSGML v1.0//EN
CALSCALE:GREGORIAN
METHOD:PUBLISH
X-WR-CALNAME:WSPTA
X-ORIGINAL-URL:https://www.wastatepta.org
X-WR-CALDESC:Events for WSPTA
REFRESH-INTERVAL;VALUE=DURATION:PT1H
X-Robots-Tag:noindex
X-PUBLISHED-TTL:PT1H
BEGIN:VTIMEZONE
TZID:America/Los_Angeles
BEGIN:DAYLIGHT
TZOFFSETFROM:-0800
TZOFFSETTO:-0700
TZNAME:PDT
DTSTART:20180311T100000
END:DAYLIGHT
BEGIN:STANDARD
TZOFFSETFROM:-0700
TZOFFSETTO:-0800
TZNAME:PST
DTSTART:20181104T090000
END:STANDARD
BEGIN:DAYLIGHT
TZOFFSETFROM:-0800
TZOFFSETTO:-0700
TZNAME:PDT
DTSTART:20190310T100000
END:DAYLIGHT
BEGIN:STANDARD
TZOFFSETFROM:-0700
TZOFFSETTO:-0800
TZNAME:PST
DTSTART:20191103T090000
END:STANDARD
BEGIN:DAYLIGHT
TZOFFSETFROM:-0800
TZOFFSETTO:-0700
TZNAME:PDT
DTSTART:20200308T100000
END:DAYLIGHT
BEGIN:STANDARD
TZOFFSETFROM:-0700
TZOFFSETTO:-0800
TZNAME:PST
DTSTART:20201101T090000
END:STANDARD
BEGIN:DAYLIGHT
TZOFFSETFROM:-0800
TZOFFSETTO:-0700
TZNAME:PDT
DTSTART:20210314T100000
END:DAYLIGHT
BEGIN:STANDARD
TZOFFSETFROM:-0700
TZOFFSETTO:-0800
TZNAME:PST
DTSTART:20211107T090000
END:STANDARD
END:VTIMEZONE
BEGIN:VTIMEZONE
TZID:UTC
BEGIN:STANDARD
TZOFFSETFROM:+0000
TZOFFSETTO:+0000
TZNAME:UTC
DTSTART:20160101T000000
END:STANDARD
END:VTIMEZONE
BEGIN:VEVENT
DTSTART;TZID=America/Los_Angeles:20200627T080000
DTEND;TZID=America/Los_Angeles:20200627T170000
DTSTAMP:20260422T222406
CREATED:20200616T212752Z
LAST-MODIFIED:20200616T213031Z
UID:12830-1593244800-1593277200@www.wastatepta.org
SUMMARY:WSPTA Board of Directors Retreat
DESCRIPTION:This event will be held as a virtual retreat for the board to receive training and set goals for the upcoming year.
URL:https://www.wastatepta.org/event/wspta-board-of-directors-retreat-2/
CATEGORIES:WSPTA Meeting
END:VEVENT
BEGIN:VEVENT
DTSTART;TZID=America/Los_Angeles:20200626T080000
DTEND;TZID=America/Los_Angeles:20200626T170000
DTSTAMP:20260422T222406
CREATED:20200616T212719Z
LAST-MODIFIED:20200616T212719Z
UID:12828-1593158400-1593190800@www.wastatepta.org
SUMMARY:WSPTA Board of Directors Retreat
DESCRIPTION:This event will be held as a virtual retreat for the board to receive training and set goals for the upcoming year.
URL:https://www.wastatepta.org/event/wspta-board-of-directors-retreat/
CATEGORIES:WSPTA Meeting
END:VEVENT
BEGIN:VEVENT
DTSTART;TZID=America/Los_Angeles:20200514T110000
DTEND;TZID=America/Los_Angeles:20200514T150000
DTSTAMP:20260422T222406
CREATED:20190529T174836Z
LAST-MODIFIED:20200418T202219Z
UID:10334-1589454000-1589468400@www.wastatepta.org
SUMMARY:WSPTA Preconvention Board Meeting
DESCRIPTION:Virtual Board Meeting \nAnyone wishing to request a courtesy seat should contact the WSPTA President\, ptapres@wastatepta.org.
URL:https://www.wastatepta.org/event/wspta-preconvention-board-meeting-2/
CATEGORIES:WSPTA Meeting
END:VEVENT
BEGIN:VEVENT
DTSTART;TZID=America/Los_Angeles:20200201T080000
DTEND;TZID=America/Los_Angeles:20200201T170000
DTSTAMP:20260422T222406
CREATED:20191228T230259Z
LAST-MODIFIED:20200120T234802Z
UID:11482-1580544000-1580576400@www.wastatepta.org
SUMMARY:WSPTA Board of Directors Winter Board Meeting
DESCRIPTION:Residence Inn by Marriott: 7575 164th Ave NE\, Redmond\, WA 98052 \nAnyone wishing to request a courtesy seat should contact the WSPTA President\, ptapres@wastatepta.org. Per WSPTA Policy 5.1.5\, one week’s notice prior to the meeting date is required.
URL:https://www.wastatepta.org/event/wspta-board-of-directors-winter-board-meeting/
CATEGORIES:WSPTA Meeting
END:VEVENT
BEGIN:VEVENT
DTSTART;TZID=America/Los_Angeles:20191025T080000
DTEND;TZID=America/Los_Angeles:20191025T170000
DTSTAMP:20260422T222406
CREATED:20190315T164611Z
LAST-MODIFIED:20190903T162609Z
UID:9816-1571990400-1572022800@www.wastatepta.org
SUMMARY:WSPTA Fall Board Meeting
DESCRIPTION:Bellevue College\, Bellevue\, WA 98007 \nAnyone wishing to request a courtesy seat should contact the WSPTA President\, ptapres@wastatepta.org. Per WSPTA Policy 5.1.5\, one week’s notice prior to the meeting date is required.
URL:https://www.wastatepta.org/event/wspta-fall-board-meeting-2/
CATEGORIES:WSPTA Meeting
END:VEVENT
BEGIN:VEVENT
DTSTART;TZID=America/Los_Angeles:20190804T080000
DTEND;TZID=America/Los_Angeles:20190804T170000
DTSTAMP:20260422T222406
CREATED:20190315T165534Z
LAST-MODIFIED:20190315T165534Z
UID:9820-1564905600-1564938000@www.wastatepta.org
SUMMARY:WSPTA Summer Board Meeting
DESCRIPTION:Highline Community College\, Des Moines\, WA 98198 \nAnyone wishing to request a courtesy seat should contact the WSPTA President\, ptapres@wastatepta.org.
URL:https://www.wastatepta.org/event/wspta-summer-board-meeting-2/
CATEGORIES:WSPTA Meeting
END:VEVENT
BEGIN:VEVENT
DTSTART;TZID=UTC:20190425T080000
DTEND;TZID=UTC:20190425T170000
DTSTAMP:20260422T222406
CREATED:20180103T041518Z
LAST-MODIFIED:20180103T041518Z
UID:6424-1556179200-1556211600@www.wastatepta.org
SUMMARY:WSPTA Preconvention Board Meeting
DESCRIPTION:SeaTac Hilton \nAnyone wishing to request a courtesy seat should contact the WSPTA President\, ptapres@wastatepta.org.
URL:https://www.wastatepta.org/event/wspta-preconvention-board-meeting/
CATEGORIES:WSPTA Meeting
END:VEVENT
BEGIN:VEVENT
DTSTART;TZID=UTC:20190126T080000
DTEND;TZID=UTC:20190126T170000
DTSTAMP:20260422T222406
CREATED:20180103T041304Z
LAST-MODIFIED:20180103T041304Z
UID:6422-1548489600-1548522000@www.wastatepta.org
SUMMARY:WSPTA Winter Board Meeting
DESCRIPTION:WSPTA Office\, Tacoma \nAnyone wishing to request a courtesy seat should contact the WSPTA President\, ptapres@wastatepta.org.
URL:https://www.wastatepta.org/event/wspta-winter-board-meeting-2/
CATEGORIES:WSPTA Meeting
END:VEVENT
BEGIN:VEVENT
DTSTART;TZID=UTC:20181019T080000
DTEND;TZID=UTC:20181019T170000
DTSTAMP:20260422T222406
CREATED:20180103T041121Z
LAST-MODIFIED:20180103T041121Z
UID:6420-1539936000-1539968400@www.wastatepta.org
SUMMARY:WSPTA Fall Board Meeting
DESCRIPTION:WSPTA Office\, Tacoma \nAnyone wishing to request a courtesy seat should contact the WSPTA President\, ptapres@wastatepta.org.
URL:https://www.wastatepta.org/event/wspta-fall-board-meeting/
CATEGORIES:WSPTA Meeting
END:VEVENT
BEGIN:VEVENT
DTSTART;TZID=UTC:20180805T080000
DTEND;TZID=UTC:20180805T170000
DTSTAMP:20260422T222406
CREATED:20180103T040921Z
LAST-MODIFIED:20180103T040921Z
UID:6418-1533456000-1533488400@www.wastatepta.org
SUMMARY:WSPTA Summer Board Meeting
DESCRIPTION:WSPTA Office\, Tacoma \nAnyone wishing to request a courtesy seat should contact the WSPTA President\, ptapres@wastatepta.org.
URL:https://www.wastatepta.org/event/wspta-summer-board-meeting/
CATEGORIES:WSPTA Meeting
END:VEVENT
BEGIN:VEVENT
DTSTART;TZID=UTC:20180610T080000
DTEND;TZID=UTC:20180610T170000
DTSTAMP:20260422T222406
CREATED:20180103T040739Z
LAST-MODIFIED:20180103T040739Z
UID:6416-1528617600-1528650000@www.wastatepta.org
SUMMARY:WSPTA Region Director Retreat
DESCRIPTION:Green River College\, Auburn – invitation only \nThis event is by invitation only for those appointed as a Region Director. For more information please contact the WSPTA President\, ptapres@wastatepta.org.
URL:https://www.wastatepta.org/event/wspta-region-director-retreat/
CATEGORIES:WSPTA Meeting
END:VEVENT
BEGIN:VEVENT
DTSTART;TZID=UTC:20180609T080000
DTEND;TZID=UTC:20180609T170000
DTSTAMP:20260422T222406
CREATED:20180103T040545Z
LAST-MODIFIED:20180103T040545Z
UID:6413-1528531200-1528563600@www.wastatepta.org
SUMMARY:WSPTA Board Retreat and Board Meeting
DESCRIPTION:Green River College\, Auburn \nAnyone wishing to request a courtesy seat should contact the WSPTA President\, ptapres@wastatepta.org.
URL:https://www.wastatepta.org/event/wspta-board-retreat-board-meeting/
CATEGORIES:WSPTA Meeting
END:VEVENT
BEGIN:VEVENT
DTSTART;TZID=UTC:20180517T080000
DTEND;TZID=UTC:20180517T170000
DTSTAMP:20260422T222406
CREATED:20171209T051517Z
LAST-MODIFIED:20180103T042205Z
UID:6318-1526544000-1526576400@www.wastatepta.org
SUMMARY:WSPTA Preconvention Board Meeting
DESCRIPTION:Anyone wishing to request a courtesy seat should contact the WSPTA President\, ptapres@wastatepta.org. \nLocation: Hilton Hotel\, Vancouver\, WA.
URL:https://www.wastatepta.org/event/wspta-pre-convention-board-meeting/
CATEGORIES:WSPTA Meeting
END:VEVENT
BEGIN:VEVENT
DTSTART;TZID=UTC:20180203T080000
DTEND;TZID=UTC:20180203T170000
DTSTAMP:20260422T222406
CREATED:20171209T050554Z
LAST-MODIFIED:20171209T061234Z
UID:6306-1517644800-1517677200@www.wastatepta.org
SUMMARY:WSPTA Winter Board Meeting
DESCRIPTION:Anyone wishing to request a courtesy seat should contact the WSPTA President\, ptapres@wastatepta.org. \nLocation: WSPTA Offices
URL:https://www.wastatepta.org/event/wspta-winter-board-meeting/
CATEGORIES:WSPTA Meeting
END:VEVENT
BEGIN:VEVENT
DTSTART;VALUE=DATE:20170428
DTEND;VALUE=DATE:20170501
DTSTAMP:20260422T222406
CREATED:20161207T024713Z
LAST-MODIFIED:20170308T044409Z
UID:1919-1493337600-1493596799@www.wastatepta.org
SUMMARY:104th Annual WSPTA Convention
DESCRIPTION:Reasons to Attend Convention\nBe inspired. Convention is the place where leaders go to be inspired\, understand the issues\, and learn the skills to be powerful and effective leaders and advocates. \nProfessional development. Convention classes are the best way for PTA officers to get the leadership training they need to have a successful year\, and for returning officers to advance their training. \nNetworking with other leaders. Get to know PTA leaders from around the state\, your council\, and region\, and spend some time bonding with your own board members. \nGet new ideas. Learn about successful programs and activities other PTAs are doing. Meet vendors and develop new ideas for school assemblies\, field trips\, fundraisers and a wide variety of enrichment opportunities for your students. Build on your successful programs and introduce new programs for a fresh\, new\, and exciting PTA year. \nConvention is fun! It’s fun to get away from your normal routine and spend some time in an environment bursting with enthusiasm and energy. \nGiveaways and special offers. Exhibitors offer some great giveaways\, plus there are fantastic door prizes given out at general sessions. \nValidation. PTA leaders work hard for the PTA. At convention\, you will learn more about the mission of making every child’s potential a reality\, meet others with a common passion for improving the lives of children\, and feel validated and energized in your role as an advocate for children. \nQuestions? Email us: support@wastatepta.org
URL:https://www.wastatepta.org/event/104th-annual-wspta-convention/
LOCATION:Hilton Seattle Airport Hotel & Conference Center\, 17620 International Boulevard\, Seattle\, WA\, 98188\, United States
CATEGORIES:Leadership Development/Training Opportunity,WSPTA Event,WSPTA Meeting
GEO:47.4445958;-122.2945817
X-APPLE-STRUCTURED-LOCATION;VALUE=URI;X-ADDRESS=Hilton Seattle Airport Hotel & Conference Center 17620 International Boulevard Seattle WA 98188 United States;X-APPLE-RADIUS=500;X-TITLE=17620 International Boulevard:geo:-122.2945817,47.4445958
END:VEVENT
BEGIN:VEVENT
DTSTART;TZID=UTC:20170116T080000
DTEND;TZID=UTC:20170116T170000
DTSTAMP:20260422T222406
CREATED:20161119T024541Z
LAST-MODIFIED:20161206T025622Z
UID:1748-1484553600-1484586000@www.wastatepta.org
SUMMARY:Focus Day 2017
DESCRIPTION:Purpose of Focus Day\nFocus Day is intended to serve a s focal point for WSPTA’s legislative advocacy. \n8:00 a.m. – Registration\n9:00 a.m. – Introductions\, etc.\n9:15 a.m. – Overview of the day\, WSPTA Platform Discussion\n9:30 a.m. – Program (to be announced)\n11:35 a.m. – Lunch Break (box lunch pickup if pre-ordered)\n12:15 p.m. – Program in Rotunda (to be announced)\n1:00 p.m. – Program Ends
URL:https://www.wastatepta.org/event/focus-day-2017/
LOCATION:State Capitol\, 416 Sid Snyder Ave SW\, Olympia\, WA\, 98504\, United States
CATEGORIES:Leadership Development/Training Opportunity,WSPTA Event,WSPTA Meeting
GEO:47.0357219;-122.9048304
X-APPLE-STRUCTURED-LOCATION;VALUE=URI;X-ADDRESS=State Capitol 416 Sid Snyder Ave SW Olympia WA 98504 United States;X-APPLE-RADIUS=500;X-TITLE=416 Sid Snyder Ave SW:geo:-122.9048304,47.0357219
END:VEVENT
END:VCALENDAR