BEGIN:VCALENDAR
VERSION:2.0
PRODID:-//WSPTA - ECPv6.15.17//NONSGML v1.0//EN
CALSCALE:GREGORIAN
METHOD:PUBLISH
X-WR-CALNAME:WSPTA
X-ORIGINAL-URL:https://www.wastatepta.org
X-WR-CALDESC:Events for WSPTA
REFRESH-INTERVAL;VALUE=DURATION:PT1H
X-Robots-Tag:noindex
X-PUBLISHED-TTL:PT1H
BEGIN:VTIMEZONE
TZID:America/Los_Angeles
BEGIN:DAYLIGHT
TZOFFSETFROM:-0800
TZOFFSETTO:-0700
TZNAME:PDT
DTSTART:20180311T100000
END:DAYLIGHT
BEGIN:STANDARD
TZOFFSETFROM:-0700
TZOFFSETTO:-0800
TZNAME:PST
DTSTART:20181104T090000
END:STANDARD
BEGIN:DAYLIGHT
TZOFFSETFROM:-0800
TZOFFSETTO:-0700
TZNAME:PDT
DTSTART:20190310T100000
END:DAYLIGHT
BEGIN:STANDARD
TZOFFSETFROM:-0700
TZOFFSETTO:-0800
TZNAME:PST
DTSTART:20191103T090000
END:STANDARD
BEGIN:DAYLIGHT
TZOFFSETFROM:-0800
TZOFFSETTO:-0700
TZNAME:PDT
DTSTART:20200308T100000
END:DAYLIGHT
BEGIN:STANDARD
TZOFFSETFROM:-0700
TZOFFSETTO:-0800
TZNAME:PST
DTSTART:20201101T090000
END:STANDARD
BEGIN:DAYLIGHT
TZOFFSETFROM:-0800
TZOFFSETTO:-0700
TZNAME:PDT
DTSTART:20210314T100000
END:DAYLIGHT
BEGIN:STANDARD
TZOFFSETFROM:-0700
TZOFFSETTO:-0800
TZNAME:PST
DTSTART:20211107T090000
END:STANDARD
BEGIN:DAYLIGHT
TZOFFSETFROM:-0800
TZOFFSETTO:-0700
TZNAME:PDT
DTSTART:20220313T100000
END:DAYLIGHT
BEGIN:STANDARD
TZOFFSETFROM:-0700
TZOFFSETTO:-0800
TZNAME:PST
DTSTART:20221106T090000
END:STANDARD
BEGIN:DAYLIGHT
TZOFFSETFROM:-0800
TZOFFSETTO:-0700
TZNAME:PDT
DTSTART:20230312T100000
END:DAYLIGHT
BEGIN:STANDARD
TZOFFSETFROM:-0700
TZOFFSETTO:-0800
TZNAME:PST
DTSTART:20231105T090000
END:STANDARD
BEGIN:DAYLIGHT
TZOFFSETFROM:-0800
TZOFFSETTO:-0700
TZNAME:PDT
DTSTART:20240310T100000
END:DAYLIGHT
BEGIN:STANDARD
TZOFFSETFROM:-0700
TZOFFSETTO:-0800
TZNAME:PST
DTSTART:20241103T090000
END:STANDARD
BEGIN:DAYLIGHT
TZOFFSETFROM:-0800
TZOFFSETTO:-0700
TZNAME:PDT
DTSTART:20250309T100000
END:DAYLIGHT
BEGIN:STANDARD
TZOFFSETFROM:-0700
TZOFFSETTO:-0800
TZNAME:PST
DTSTART:20251102T090000
END:STANDARD
BEGIN:DAYLIGHT
TZOFFSETFROM:-0800
TZOFFSETTO:-0700
TZNAME:PDT
DTSTART:20260308T100000
END:DAYLIGHT
BEGIN:STANDARD
TZOFFSETFROM:-0700
TZOFFSETTO:-0800
TZNAME:PST
DTSTART:20261101T090000
END:STANDARD
END:VTIMEZONE
BEGIN:VTIMEZONE
TZID:UTC
BEGIN:STANDARD
TZOFFSETFROM:+0000
TZOFFSETTO:+0000
TZNAME:UTC
DTSTART:20170101T000000
END:STANDARD
END:VTIMEZONE
BEGIN:VEVENT
DTSTART;TZID=America/Los_Angeles:20250917T180000
DTEND;TZID=America/Los_Angeles:20250917T210000
DTSTAMP:20260422T194323
CREATED:20250809T204357Z
LAST-MODIFIED:20250809T204357Z
UID:24592-1758132000-1758142800@www.wastatepta.org
SUMMARY:PTA and the Law
DESCRIPTION:This is the most important and useful class of them all\, as it will prepare you and your fellow officers to run your PTA with an eye toward the important legal and fiscal requirements in running a nonprofit. PTA and the Law deals with state and federal rules and regulations relevant to running a charitable\, tax-exempt\, nonprofit corporation in the state of Washington and will explain how these rules impact your PTA. PTA and the Law is a required class for at least one PTA officer each year. \nRegister here: https://us02web.zoom.us/webinar/register/WN_MEjEabPyTDyi6a-N8CaLsQ
URL:https://www.wastatepta.org/event/pta-and-the-law-14/
CATEGORIES:Leadership Development/Training Opportunity,WSPTA Meeting
END:VEVENT
BEGIN:VEVENT
DTSTART;TZID=America/Los_Angeles:20250821T100000
DTEND;TZID=America/Los_Angeles:20250821T130000
DTSTAMP:20260422T194323
CREATED:20250822T181131Z
LAST-MODIFIED:20250822T181131Z
UID:24650-1755770400-1755781200@www.wastatepta.org
SUMMARY:Board of Directors Meeting
DESCRIPTION:Virtual \nDate and time subject to change.
URL:https://www.wastatepta.org/event/board-of-directors-meeting-2/
CATEGORIES:WSPTA Meeting
END:VEVENT
BEGIN:VEVENT
DTSTART;TZID=America/Los_Angeles:20250805T100000
DTEND;TZID=America/Los_Angeles:20250805T120000
DTSTAMP:20260422T194323
CREATED:20250822T180857Z
LAST-MODIFIED:20250822T180857Z
UID:24648-1754388000-1754395200@www.wastatepta.org
SUMMARY:Board of Directors Meeting
DESCRIPTION:Virtual \nDate and time subject to change
URL:https://www.wastatepta.org/event/board-of-directors-meeting/
CATEGORIES:WSPTA Meeting
END:VEVENT
BEGIN:VEVENT
DTSTART;TZID=America/Los_Angeles:20250609T183000
DTEND;TZID=America/Los_Angeles:20250609T200000
DTSTAMP:20260422T194323
CREATED:20250515T224440Z
LAST-MODIFIED:20250515T224440Z
UID:24266-1749493800-1749499200@www.wastatepta.org
SUMMARY:National PTA Healthy Minds Initiative
DESCRIPTION:Join us to explore the National PTA Healthy Minds initiative! Learn about valuable grant opportunities and discover practical strategies to support student well-being. This presentation will help you plan impactful workshops for the next school year and empower families to create a thriving learning environment. Together\, we can foster stronger\, healthier minds!
URL:https://www.wastatepta.org/event/national-pta-healthy-minds-initiative/
CATEGORIES:WSPTA Meeting
END:VEVENT
BEGIN:VEVENT
DTSTART;VALUE=DATE:20250502
DTEND;VALUE=DATE:20250505
DTSTAMP:20260422T194323
CREATED:20250304T022735Z
LAST-MODIFIED:20250304T022735Z
UID:23916-1746144000-1746403199@www.wastatepta.org
SUMMARY:112th WSPTA Convention and Annual Meeting
DESCRIPTION:Learn more here: https://wastatepta.org/events-programs/convention/
URL:https://www.wastatepta.org/event/112th-wspta-convention-and-annual-meeting/
CATEGORIES:Leadership Development/Training Opportunity,WSPTA Event,WSPTA Meeting,WSPTA Office,WSPTA Reflections
END:VEVENT
BEGIN:VEVENT
DTSTART;TZID=America/Los_Angeles:20231104T090000
DTEND;TZID=America/Los_Angeles:20231104T170000
DTSTAMP:20260422T194323
CREATED:20231005T181106Z
LAST-MODIFIED:20231005T181106Z
UID:20942-1699088400-1699117200@www.wastatepta.org
SUMMARY:WPSTA Board Meeting
DESCRIPTION:Date and time subject to change.
URL:https://www.wastatepta.org/event/wpsta-board-meeting-2/
LOCATION:Residence Inn Redmond\, Redmond\, WA
CATEGORIES:WSPTA Meeting
END:VEVENT
BEGIN:VEVENT
DTSTART;TZID=America/Los_Angeles:20230505T090000
DTEND;TZID=America/Los_Angeles:20230505T180000
DTSTAMP:20260422T194323
CREATED:20230310T193912Z
LAST-MODIFIED:20230310T194040Z
UID:19265-1683277200-1683309600@www.wastatepta.org
SUMMARY:WSPTA Board Meeting
DESCRIPTION:The next WSPTA Board meeting will take place once May 5\, 2023 from 9:00 AM to 6:00 PM (estimated end time). \nTimes and dates are subject to Change. \nHilton Bellevue’s address is 300 112th Ave SE\, Bellevue\, WA.
URL:https://www.wastatepta.org/event/wspta-board-meeting-3/
LOCATION:Hilton Bellevue\, Bellevue\, WA
CATEGORIES:WSPTA Meeting
END:VEVENT
BEGIN:VEVENT
DTSTART;TZID=America/Los_Angeles:20230121T090000
DTEND;TZID=America/Los_Angeles:20230121T170000
DTSTAMP:20260422T194323
CREATED:20230106T180942Z
LAST-MODIFIED:20230106T180942Z
UID:18602-1674291600-1674320400@www.wastatepta.org
SUMMARY:WPSTA Board Meeting
DESCRIPTION:Date and time subject to change.
URL:https://www.wastatepta.org/event/wpsta-board-meeting/
CATEGORIES:WSPTA Meeting
END:VEVENT
BEGIN:VEVENT
DTSTART;TZID=America/Los_Angeles:20220807T090000
DTEND;TZID=America/Los_Angeles:20220807T180000
DTSTAMP:20260422T194323
CREATED:20220509T233827Z
LAST-MODIFIED:20220509T233827Z
UID:17141-1659862800-1659895200@www.wastatepta.org
SUMMARY:WSPTA Board Meeting
DESCRIPTION:Subject to change.
URL:https://www.wastatepta.org/event/wspta-board-meeting-2/
CATEGORIES:WSPTA Meeting
END:VEVENT
BEGIN:VEVENT
DTSTART;TZID=America/Los_Angeles:20220605T090000
DTEND;TZID=America/Los_Angeles:20220605T180000
DTSTAMP:20260422T194323
CREATED:20220509T233748Z
LAST-MODIFIED:20220509T233748Z
UID:17139-1654419600-1654452000@www.wastatepta.org
SUMMARY:WSPTA Board Meeting
DESCRIPTION:Subject to change.
URL:https://www.wastatepta.org/event/wspta-board-meeting/
CATEGORIES:WSPTA Meeting
END:VEVENT
BEGIN:VEVENT
DTSTART;TZID=America/Los_Angeles:20220519T140000
DTEND;TZID=America/Los_Angeles:20220519T173000
DTSTAMP:20260422T194323
CREATED:20201218T194618Z
LAST-MODIFIED:20220509T233634Z
UID:13927-1652968800-1652981400@www.wastatepta.org
SUMMARY:WSPTA Pre-Convention Board Meeting
DESCRIPTION:Subject to change.
URL:https://www.wastatepta.org/event/wspta-pre-convention-board-meeting-3/
CATEGORIES:WSPTA Meeting
END:VEVENT
BEGIN:VEVENT
DTSTART;TZID=America/Los_Angeles:20220116T080000
DTEND;TZID=America/Los_Angeles:20220116T170000
DTSTAMP:20260422T194323
CREATED:20201218T194414Z
LAST-MODIFIED:20210701T215505Z
UID:13923-1642320000-1642352400@www.wastatepta.org
SUMMARY:WSPTA Winter Board Meeting
DESCRIPTION:Subject to change
URL:https://www.wastatepta.org/event/wspta-winter-board-meeting-4/
CATEGORIES:WSPTA Meeting
END:VEVENT
BEGIN:VEVENT
DTSTART;TZID=America/Los_Angeles:20211030T080000
DTEND;TZID=America/Los_Angeles:20211030T170000
DTSTAMP:20260422T194323
CREATED:20201218T194225Z
LAST-MODIFIED:20210830T230425Z
UID:13919-1635580800-1635613200@www.wastatepta.org
SUMMARY:WSPTA Fall Board Meeting
DESCRIPTION:Subject to change.
URL:https://www.wastatepta.org/event/wspta-fall-board-meeting-4/
CATEGORIES:WSPTA Meeting
END:VEVENT
BEGIN:VEVENT
DTSTART;TZID=America/Los_Angeles:20210808T080000
DTEND;TZID=America/Los_Angeles:20210808T170000
DTSTAMP:20260422T194323
CREATED:20201218T194033Z
LAST-MODIFIED:20201218T194033Z
UID:13915-1628409600-1628442000@www.wastatepta.org
SUMMARY:WSPTA Summer Board Meeting
DESCRIPTION:Subject to change.
URL:https://www.wastatepta.org/event/wspta-summer-board-meeting-3/
CATEGORIES:WSPTA Meeting
END:VEVENT
BEGIN:VEVENT
DTSTART;TZID=America/Los_Angeles:20210716T080000
DTEND;TZID=America/Los_Angeles:20210717T170000
DTSTAMP:20260422T194323
CREATED:20201218T193842Z
LAST-MODIFIED:20201218T193842Z
UID:13911-1626422400-1626541200@www.wastatepta.org
SUMMARY:Region Director Retreat
DESCRIPTION:Dates are subject to change
URL:https://www.wastatepta.org/event/region-director-retreat/
CATEGORIES:WSPTA Meeting
END:VEVENT
BEGIN:VEVENT
DTSTART;TZID=America/Los_Angeles:20210604T080000
DTEND;TZID=America/Los_Angeles:20210606T170000
DTSTAMP:20260422T194323
CREATED:20201218T193756Z
LAST-MODIFIED:20201218T193756Z
UID:13909-1622793600-1622998800@www.wastatepta.org
SUMMARY:WSPTA Board Retreat and Board Meeting
DESCRIPTION:Dates are subject to change.
URL:https://www.wastatepta.org/event/wspta-board-retreat-and-board-meeting/
CATEGORIES:WSPTA Meeting
END:VEVENT
BEGIN:VEVENT
DTSTART;TZID=America/Los_Angeles:20210515T080000
DTEND;TZID=America/Los_Angeles:20210515T170000
DTSTAMP:20260422T194323
CREATED:20210205T204837Z
LAST-MODIFIED:20210205T204837Z
UID:14186-1621065600-1621098000@www.wastatepta.org
SUMMARY:WSPTA Pre-convention Board Meeting
DESCRIPTION:Anyone wishing to request a courtesy seat should contact the WSPTA President\, ptapres@wastatepta.org.
URL:https://www.wastatepta.org/event/wspta-pre-convention-board-meeting-2/
LOCATION:Virtual
CATEGORIES:WSPTA Meeting
END:VEVENT
BEGIN:VEVENT
DTSTART;TZID=America/Los_Angeles:20210130T080000
DTEND;TZID=America/Los_Angeles:20210130T170000
DTSTAMP:20260422T194323
CREATED:20200810T202927Z
LAST-MODIFIED:20200810T202927Z
UID:13066-1611993600-1612026000@www.wastatepta.org
SUMMARY:WSPTA Winter Board Meeting
DESCRIPTION:Still to be determined if the meeting will be virtual or in a physical location and the timing of the meeting. \nAnyone wishing to request a courtesy seat should contact the WSPTA President\, ptapres@wastatepta.org.
URL:https://www.wastatepta.org/event/wspta-winter-board-meeting-3/
CATEGORIES:WSPTA Meeting
END:VEVENT
BEGIN:VEVENT
DTSTART;TZID=America/Los_Angeles:20201107T110000
DTEND;TZID=America/Los_Angeles:20201107T150000
DTSTAMP:20260422T194323
CREATED:20200810T202328Z
LAST-MODIFIED:20200810T202722Z
UID:13061-1604746800-1604761200@www.wastatepta.org
SUMMARY:WSPTA Fall Board Meeting
DESCRIPTION:Virtual Board Meeting\, exact times TBD. \nAnyone wishing to request a courtesy seat should contact the WSPTA President\, ptapres@wastatepta.org.
URL:https://www.wastatepta.org/event/wspta-fall-board-meeting-3/
CATEGORIES:WSPTA Meeting
END:VEVENT
BEGIN:VEVENT
DTSTART;TZID=America/Los_Angeles:20200628T080000
DTEND;TZID=America/Los_Angeles:20200628T120000
DTSTAMP:20260422T194323
CREATED:20200616T212847Z
LAST-MODIFIED:20200616T212950Z
UID:12832-1593331200-1593345600@www.wastatepta.org
SUMMARY:WSPTA Board of Directors Meeting
DESCRIPTION:Virtual Board Meeting \nAnyone wishing to request a courtesy seat should contact the WSPTA President\, ptapres@wastatepta.org.
URL:https://www.wastatepta.org/event/wspta-board-of-directors-meeting/
CATEGORIES:WSPTA Meeting
END:VEVENT
BEGIN:VEVENT
DTSTART;TZID=America/Los_Angeles:20200627T080000
DTEND;TZID=America/Los_Angeles:20200627T170000
DTSTAMP:20260422T194323
CREATED:20200616T212752Z
LAST-MODIFIED:20200616T213031Z
UID:12830-1593244800-1593277200@www.wastatepta.org
SUMMARY:WSPTA Board of Directors Retreat
DESCRIPTION:This event will be held as a virtual retreat for the board to receive training and set goals for the upcoming year.
URL:https://www.wastatepta.org/event/wspta-board-of-directors-retreat-2/
CATEGORIES:WSPTA Meeting
END:VEVENT
BEGIN:VEVENT
DTSTART;TZID=America/Los_Angeles:20200626T080000
DTEND;TZID=America/Los_Angeles:20200626T170000
DTSTAMP:20260422T194323
CREATED:20200616T212719Z
LAST-MODIFIED:20200616T212719Z
UID:12828-1593158400-1593190800@www.wastatepta.org
SUMMARY:WSPTA Board of Directors Retreat
DESCRIPTION:This event will be held as a virtual retreat for the board to receive training and set goals for the upcoming year.
URL:https://www.wastatepta.org/event/wspta-board-of-directors-retreat/
CATEGORIES:WSPTA Meeting
END:VEVENT
BEGIN:VEVENT
DTSTART;TZID=America/Los_Angeles:20200514T110000
DTEND;TZID=America/Los_Angeles:20200514T150000
DTSTAMP:20260422T194323
CREATED:20190529T174836Z
LAST-MODIFIED:20200418T202219Z
UID:10334-1589454000-1589468400@www.wastatepta.org
SUMMARY:WSPTA Preconvention Board Meeting
DESCRIPTION:Virtual Board Meeting \nAnyone wishing to request a courtesy seat should contact the WSPTA President\, ptapres@wastatepta.org.
URL:https://www.wastatepta.org/event/wspta-preconvention-board-meeting-2/
CATEGORIES:WSPTA Meeting
END:VEVENT
BEGIN:VEVENT
DTSTART;TZID=America/Los_Angeles:20200201T080000
DTEND;TZID=America/Los_Angeles:20200201T170000
DTSTAMP:20260422T194323
CREATED:20191228T230259Z
LAST-MODIFIED:20200120T234802Z
UID:11482-1580544000-1580576400@www.wastatepta.org
SUMMARY:WSPTA Board of Directors Winter Board Meeting
DESCRIPTION:Residence Inn by Marriott: 7575 164th Ave NE\, Redmond\, WA 98052 \nAnyone wishing to request a courtesy seat should contact the WSPTA President\, ptapres@wastatepta.org. Per WSPTA Policy 5.1.5\, one week’s notice prior to the meeting date is required.
URL:https://www.wastatepta.org/event/wspta-board-of-directors-winter-board-meeting/
CATEGORIES:WSPTA Meeting
END:VEVENT
BEGIN:VEVENT
DTSTART;TZID=America/Los_Angeles:20191025T080000
DTEND;TZID=America/Los_Angeles:20191025T170000
DTSTAMP:20260422T194323
CREATED:20190315T164611Z
LAST-MODIFIED:20190903T162609Z
UID:9816-1571990400-1572022800@www.wastatepta.org
SUMMARY:WSPTA Fall Board Meeting
DESCRIPTION:Bellevue College\, Bellevue\, WA 98007 \nAnyone wishing to request a courtesy seat should contact the WSPTA President\, ptapres@wastatepta.org. Per WSPTA Policy 5.1.5\, one week’s notice prior to the meeting date is required.
URL:https://www.wastatepta.org/event/wspta-fall-board-meeting-2/
CATEGORIES:WSPTA Meeting
END:VEVENT
BEGIN:VEVENT
DTSTART;TZID=America/Los_Angeles:20190804T080000
DTEND;TZID=America/Los_Angeles:20190804T170000
DTSTAMP:20260422T194323
CREATED:20190315T165534Z
LAST-MODIFIED:20190315T165534Z
UID:9820-1564905600-1564938000@www.wastatepta.org
SUMMARY:WSPTA Summer Board Meeting
DESCRIPTION:Highline Community College\, Des Moines\, WA 98198 \nAnyone wishing to request a courtesy seat should contact the WSPTA President\, ptapres@wastatepta.org.
URL:https://www.wastatepta.org/event/wspta-summer-board-meeting-2/
CATEGORIES:WSPTA Meeting
END:VEVENT
BEGIN:VEVENT
DTSTART;TZID=UTC:20190425T080000
DTEND;TZID=UTC:20190425T170000
DTSTAMP:20260422T194323
CREATED:20180103T041518Z
LAST-MODIFIED:20180103T041518Z
UID:6424-1556179200-1556211600@www.wastatepta.org
SUMMARY:WSPTA Preconvention Board Meeting
DESCRIPTION:SeaTac Hilton \nAnyone wishing to request a courtesy seat should contact the WSPTA President\, ptapres@wastatepta.org.
URL:https://www.wastatepta.org/event/wspta-preconvention-board-meeting/
CATEGORIES:WSPTA Meeting
END:VEVENT
BEGIN:VEVENT
DTSTART;TZID=UTC:20190126T080000
DTEND;TZID=UTC:20190126T170000
DTSTAMP:20260422T194323
CREATED:20180103T041304Z
LAST-MODIFIED:20180103T041304Z
UID:6422-1548489600-1548522000@www.wastatepta.org
SUMMARY:WSPTA Winter Board Meeting
DESCRIPTION:WSPTA Office\, Tacoma \nAnyone wishing to request a courtesy seat should contact the WSPTA President\, ptapres@wastatepta.org.
URL:https://www.wastatepta.org/event/wspta-winter-board-meeting-2/
CATEGORIES:WSPTA Meeting
END:VEVENT
BEGIN:VEVENT
DTSTART;TZID=UTC:20181019T080000
DTEND;TZID=UTC:20181019T170000
DTSTAMP:20260422T194323
CREATED:20180103T041121Z
LAST-MODIFIED:20180103T041121Z
UID:6420-1539936000-1539968400@www.wastatepta.org
SUMMARY:WSPTA Fall Board Meeting
DESCRIPTION:WSPTA Office\, Tacoma \nAnyone wishing to request a courtesy seat should contact the WSPTA President\, ptapres@wastatepta.org.
URL:https://www.wastatepta.org/event/wspta-fall-board-meeting/
CATEGORIES:WSPTA Meeting
END:VEVENT
BEGIN:VEVENT
DTSTART;TZID=UTC:20180805T080000
DTEND;TZID=UTC:20180805T170000
DTSTAMP:20260422T194323
CREATED:20180103T040921Z
LAST-MODIFIED:20180103T040921Z
UID:6418-1533456000-1533488400@www.wastatepta.org
SUMMARY:WSPTA Summer Board Meeting
DESCRIPTION:WSPTA Office\, Tacoma \nAnyone wishing to request a courtesy seat should contact the WSPTA President\, ptapres@wastatepta.org.
URL:https://www.wastatepta.org/event/wspta-summer-board-meeting/
CATEGORIES:WSPTA Meeting
END:VEVENT
END:VCALENDAR